BEGIN:VCALENDAR
VERSION:2.0
PRODID:-//ChamberMaster//Event Calendar 2.0//EN
METHOD:PUBLISH
X-PUBLISHED-TTL:P3D
REFRESH-INTERVAL:P3D
CALSCALE:GREGORIAN
BEGIN:VEVENT
DTSTART:20131206T024500Z
DTEND:20131206T043000Z
X-MICROSOFT-CDO-ALLDAYEVENT:FALSE
SUMMARY:Ellensburg Metaphysical Network
DESCRIPTION:OPEN INVITATION -All are invited to this Free publc event.\n\n\n	\n		Meet the Ellensburg Metaphysical Network team\n	\n		Learn who we are and wy we formed this group\n	\n		Learn about our upcoming monthly events for2014\n	\n		Meet others in our community interested in metaphysical topics\n	\n		DVD Presentation ~ "The Sleeping Psychic" - An A&E Network Presentation on one of the most gifted\, and well documeted psychics of the 20th Century\, Edgar Cayce. Cayce gave over 14\,000 readings on various topics\, including Health Related Information\, Philosophy and Reincarnation\, Dreams and Dream Interpretation\, ESP and Psychic Phenomena\, and Spiritual Growth\, Meditation\, and Prayer.\n\n\n	Thursday\, December 5th\n\n	6:45pm - 8:30pm\n\n	Hal Holmes Center - Kittitas Room
X-ALT-DESC;FMTTYPE=text/html:<strong>OPEN INVITATION</strong> -All are invited to this Free publc event.<br />\n<ul>\n	<li>\n		Meet the Ellensburg Metaphysical Network team</li>\n	<li>\n		Learn who we are and wy we formed this group</li>\n	<li>\n		Learn about our upcoming monthly events for2014</li>\n	<li>\n		Meet others in our community interested in metaphysical topics</li>\n	<li>\n		DVD Presentation ~ &quot\;The Sleeping Psychic&quot\; - An A&amp\;E Network&nbsp\;Presentation on one of the most gifted\, and well documeted psychics of the 20th Century\, Edgar Cayce. Cayce gave over 14\,000 readings on various topics\, including Health Related Information\, Philosophy and Reincarnation\, Dreams and Dream Interpretation\, ESP and Psychic Phenomena\, and Spiritual Growth\, Meditation\, and Prayer.</li>\n</ul>\n<p>\n	Thursday\, December 5th<br />\n	6:45pm - 8:30pm<br />\n	Hal Holmes Center - Kittitas Room<br />\n	&nbsp\;</p>\n<p class="MsoNormal" style="mso-pagination: none\;">\n	<span lang="en-US" style="font-size: 14pt\; language: en-US\; mso-ansi-language: en-US\;"><span style="mso-spacerun: yes\;">&nbsp\; </span><o:p></o:p></span></p>\n<p class="MsoNormal" style="mso-pagination: none\;">\n	<span lang="en-US" style="language: en-US\;">&nbsp\;<o:p></o:p></span></p>\n<br type="_moz" />\n<p class="MsoNormal" style="text-align: center\; mso-pagination: none\;">\n	&nbsp\;</p>\n<p class="MsoNormal" style="mso-pagination: none\;">\n	<span lang="en-US" style="language: en-US\;">&nbsp\;<o:p></o:p></span></p>\n<br type="_moz" />\n
LOCATION:Hal Holmes Center Kittitas Room
UID:e.40.10869
SEQUENCE:3
DTSTAMP:20260419T210942Z
URL:http://business.kittitascountychamber.com/events/details/ellensburg-metaphysical-network-12-05-2013-10869
END:VEVENT

END:VCALENDAR
