BEGIN:VCALENDAR
VERSION:2.0
PRODID:-//ChamberMaster//Event Calendar 2.0//EN
METHOD:PUBLISH
X-PUBLISHED-TTL:P3D
REFRESH-INTERVAL:P3D
CALSCALE:GREGORIAN
BEGIN:VEVENT
DTSTART:20190731T010000Z
DTEND:20190731T023000Z
X-MICROSOFT-CDO-ALLDAYEVENT:FALSE
SUMMARY:Ellensburg Strum-Along
DESCRIPTION:www.ellensburgmusic.com/strum-along\n\nJoin us for a casual public jam session series! Music (chords and lyrics provided) ranges from Beatles to Cash to Metallica to the Sound of Music\, from oldies to patriotic tunes. \nAll ages are always welcome.\nDifferent location & time every time!\n\nHosted by Make Music Ellensburg and supported by the Ellensburg Arts Commission.
X-ALT-DESC;FMTTYPE=text/html:www.ellensburgmusic.com/strum-along\n\nJoin us for a casual public jam session series! Music (chords and lyrics provided) ranges from Beatles to Cash to Metallica to the Sound of Music\, from oldies to patriotic tunes. \nAll ages are always welcome.\nDifferent location &amp\; time every time!\n\nHosted by Make Music Ellensburg and supported by the Ellensburg Arts Commission.
LOCATION:Hal Holmes
UID:e.40.25897
SEQUENCE:3
DTSTAMP:20260421T132100Z
URL:http://business.kittitascountychamber.com/events/details/ellensburg-strum-along-07-30-2019-25897
END:VEVENT

END:VCALENDAR
