BEGIN:VCALENDAR
VERSION:2.0
PRODID:-//ChamberMaster//Event Calendar 2.0//EN
METHOD:PUBLISH
X-PUBLISHED-TTL:P3D
REFRESH-INTERVAL:P3D
CALSCALE:GREGORIAN
BEGIN:VEVENT
DTSTART:20131110T160000Z
DTEND:20131110T200000Z
X-MICROSOFT-CDO-ALLDAYEVENT:FALSE
SUMMARY:Equestrian Show
DESCRIPTION:Prepare for an exciting show at Central Washington University's Collegiate Sports Club presents an Equestrian show on Friday\, Nov. 9 and Saturday\, Nov. 10 at 8 a.m. at the Orrion Farms.  For more information visit www.cwu.edu/sport-clubs.
X-ALT-DESC;FMTTYPE=text/html:Prepare for an exciting show at Central Washington University&#39\;s Collegiate Sports Club presents an Equestrian show on Friday\, Nov. 9 and Saturday\, Nov. 10 at 8 a.m. at the Orrion Farms.&nbsp\; For more information visit www.cwu.edu/sport-clubs. 
LOCATION:Orrion Farms
UID:e.40.10747
SEQUENCE:3
DTSTAMP:20260419T225043Z
URL:http://business.kittitascountychamber.com/events/details/equestrian-show-11-10-2013-10747
END:VEVENT

END:VCALENDAR
