BEGIN:VCALENDAR
VERSION:2.0
PRODID:-//ChamberMaster//Event Calendar 2.0//EN
METHOD:PUBLISH
X-PUBLISHED-TTL:P3D
REFRESH-INTERVAL:P3D
CALSCALE:GREGORIAN
BEGIN:VEVENT
DTSTART:20140301T020000Z
DTEND:20140301T033000Z
X-MICROSOFT-CDO-ALLDAYEVENT:FALSE
SUMMARY:Ernie G! Empowerment Comedy Show
DESCRIPTION:For a night filled with much more than just jokes\, come join Latino entertainer\, inspirational speaker and empowerment comedian Ernie G for a comedy show unlike any other. Known for using humor to motivate and engage\, Ernie G aims to empower students and community members\, particularly those from underrepresented and minority groups. Be sure to attend Friday\, Feb. 28 at 6 p.m. in the CWU Student Union and Recreation Center (SURC) Theatre. This event is free\, and everyone is invited to join the fun! This event is sponsored by the Associated Students of CWU Board of Directors (ASCWU-BOD) and the Equity and Services Council (ESC). For more information contact Alyssa Martinez at martinal@cwu.edu.
X-ALT-DESC;FMTTYPE=text/html:For a night filled with much more than just jokes\, come join Latino entertainer\, inspirational speaker and empowerment comedian Ernie G for a comedy show unlike any other. Known for using humor to motivate and engage\, Ernie G aims to empower students and community members\, particularly those from underrepresented and minority groups. Be sure to attend Friday\, Feb. 28 at 6 p.m. in the CWU Student Union and Recreation Center (SURC) Theatre. This event is free\, and everyone is invited to join the fun! This event is sponsored by the Associated Students of CWU Board of Directors (ASCWU-BOD) and the Equity and Services Council (ESC). For more information contact Alyssa Martinez at martinal@cwu.edu. 
LOCATION:CWU Student Union and Recreation Center (SURC) Theatre
UID:e.40.11139
SEQUENCE:3
DTSTAMP:20260419T175246Z
URL:http://business.kittitascountychamber.com/events/details/ernie-g-empowerment-comedy-show-02-28-2014-11139
END:VEVENT

END:VCALENDAR
