BEGIN:VCALENDAR
VERSION:2.0
PRODID:-//ChamberMaster//Event Calendar 2.0//EN
METHOD:PUBLISH
X-PUBLISHED-TTL:P3D
REFRESH-INTERVAL:P3D
CALSCALE:GREGORIAN
BEGIN:VEVENT
DTSTART:20131004T010000Z
DTEND:20131004T023000Z
X-MICROSOFT-CDO-ALLDAYEVENT:FALSE
SUMMARY:Evening Lecture at the Historical Museum
DESCRIPTION:Join the Kittitas County Historical Museum on Thursday\, October 3rd at 6pm for "One Trail\, Many Voices: Songs of the Oregon Trail" with folksinger and storyteller Hank Cramer. The Oregon Trail's vast stream of emigrants was a hugely diverse group and for the most part was fleeing something   whether they were Easterners fleeing the financial panic of 1837\, Irish immigrants fleeing the potato famines\, blacks escaping slavery\, or Germans and Italians fleeing civil war. He will share the traditional folksongs of these groups who headed west and explore how migration via the Oregon Trail affected the travelers\, their songs and the culture of the Pacific Northwest.
X-ALT-DESC;FMTTYPE=text/html:<span style="language:en-US\;"><span style="font-size:12.0pt\;">Join the Kittitas County Historical Museum on </span></span><span style="font-weight:bold\;language:en-US\;"><span style="font-size:12.0pt\;">Thursday\, October 3rd at 6pm </span></span><span style="language:en-US\;"><span style="font-size:12.0pt\;">for &ldquo\;</span></span><span style="font-style:italic\;language:en-US\;"><span style="font-size:12.0pt\;">One Trail\, Many Voices: Songs of the Oregon Trail&rdquo\; </span></span><span style="language:en-US\;"><span style="font-size:12.0pt\;">with folksinger and storyteller </span></span><span style="font-weight:bold\;language:en-US\;"><span style="font-size:12.0pt\;">Hank Cramer. </span></span><span style="language:en-US\;"><span style="font-size:12.0pt\;">The Oregon Trail&rsquo\;s vast stream of emigrants was a hugely diverse group and for the most part was fleeing something &ndash\; whether they were Easterners fleeing the financial panic of 1837\, Irish immigrants fleeing the potato famines\, blacks escaping slavery\, or Germans and Italians fleeing civil war. He</span></span> <span style="language:en-US\;"><span style="font-size:12.0pt\;">will share the traditional folksongs of these groups who headed west and explore how migration via the Oregon Trail affected the travelers\, their songs and the culture of the Pacific Northwest. </span></span><br />\n&nbsp\;<br />\n<br />\n
LOCATION:Kittitas County Historical Museum\, 114 E 3rd Ave\, Ellensburg
UID:e.40.10679
SEQUENCE:3
DTSTAMP:20260420T003320Z
URL:http://business.kittitascountychamber.com/events/details/evening-lecture-at-the-historical-museum-10-03-2013-10679
END:VEVENT

END:VCALENDAR
