BEGIN:VCALENDAR
VERSION:2.0
PRODID:-//ChamberMaster//Event Calendar 2.0//EN
METHOD:PUBLISH
X-PUBLISHED-TTL:P3D
REFRESH-INTERVAL:P3D
CALSCALE:GREGORIAN
BEGIN:VEVENT
DTSTART:20131031T010000Z
DTEND:20131031T023000Z
X-MICROSOFT-CDO-ALLDAYEVENT:FALSE
SUMMARY:Evening Lecture at the Historical Museum
DESCRIPTION:On Wednesday\, October 30th at 6pm\, special guest Julia Harrison will discuss "A World of Sweets in Washington State" at the Kittitas County Historical Museum. Through this unique conversation\, learn what the diverse range of treats we enjoy across Washington state reveals about our shared history and culture. By showing how our own familiar favorites correspond to and differ from examples in other communities\, anthropologist Julia Harrison will encourage a deep level of understanding about the ways in which sweet foods shape our relationships and reveal our priorities.
X-ALT-DESC;FMTTYPE=text/html:<p>\n	<span style="font-size:12px\;"><span style="font-family: arial\,helvetica\,sans-serif\;">On <span style="font-weight: bold\;">Wednesday\, October 30th at 6pm\, </span>special guest <span style="font-weight: bold\;">Julia Harrison </span>will discuss <span style="font-style: italic\;">&ldquo\;A World of Sweets in Washington State&quot\;&nbsp\;</span>at the Kittitas County Historical Museum. Through this unique conversation\, learn what the diverse range of treats we enjoy across Washington state reveals about our shared history and culture. By showing how our own familiar favorites correspond to and differ from examples in other communities\, anthropologist Julia Harrison will encourage a deep level of understanding about the ways in which sweet foods shape our relationships and reveal our priorities.<br />\n	&nbsp\;</span></span></p>\n
LOCATION:Kittitas County Historical Museum\, 114 E 3rd Ave\, Ellensburg
UID:e.40.10680
SEQUENCE:3
DTSTAMP:20260420T003237Z
URL:http://business.kittitascountychamber.com/events/details/evening-lecture-at-the-historical-museum-10-30-2013-10680
END:VEVENT

END:VCALENDAR
