BEGIN:VCALENDAR
VERSION:2.0
PRODID:-//ChamberMaster//Event Calendar 2.0//EN
METHOD:PUBLISH
X-PUBLISHED-TTL:P3D
REFRESH-INTERVAL:P3D
CALSCALE:GREGORIAN
BEGIN:VEVENT
DTSTART:20131115T020000Z
DTEND:20131115T033000Z
X-MICROSOFT-CDO-ALLDAYEVENT:FALSE
SUMMARY:Evening Lecture at the Historical Museum
DESCRIPTION:Join the Kittitas County Historical Museum on Thursday\, November 14th at 6pm\, for "Hidden Treasures in Washington's Museums" with journalist Harriet Baskas. She will present a fast-paced\, photo-filled and\, at times\, somewhat offbeat tour of Washington history through the stories of museum artifacts that are rarely   or never   shown to the public. Examples include Bing Crosby's toupees in Spokane\, a quilt made of Ku Klux Klan robes in Yakima and Native American spirit boards in Tacoma. We will explore how those objects came to be in the local collections and who makes decisions about what is displayed or kept from view.
X-ALT-DESC;FMTTYPE=text/html:<span style="language:en-US\;"><span style="font-size:12.0pt\;">Join the Kittitas County Historical Museum on </span></span><span style="font-weight:bold\;language:en-US\;"><span style="font-size:12.0pt\;">Thursday\, November 14th at 6pm\, </span></span><span style="language:en-US\;"><span style="font-size:12.0pt\;">for &ldquo\;</span></span><span style="font-style:italic\;language:en-US\;"><span style="font-size:12.0pt\;">Hidden Treasures in Washington&rsquo\;s Museums&rdquo\; </span></span><span style="language:en-US\;"><span style="font-size:12.0pt\;">with journalist </span></span><span style="font-weight:bold\;language:en-US\;"><span style="font-size:12.0pt\;">Harriet Baskas</span></span><span style="language:en-US\;"><span style="font-size:12.0pt\;">. She will present a fast-paced\, photo-filled and\, at times\, somewhat offbeat tour of Washington history through the stories of museum artifacts that are rarely &ndash\; or never &ndash\; shown to the public. Examples include Bing Crosby&rsquo\;s toupees in Spokane\, a quilt made of Ku Klux Klan robes in Yakima and Native American spirit boards in Tacoma. We will explore how those objects came to be in the local collections and who makes decisions about what is displayed or kept from view. </span></span><br />\n&nbsp\;
LOCATION:Kittitas County Historical Museum\, 114 E 3rd Ave\, Ellensburg
UID:e.40.10681
SEQUENCE:3
DTSTAMP:20260419T225246Z
URL:http://business.kittitascountychamber.com/events/details/evening-lecture-at-the-historical-museum-11-14-2013-10681
END:VEVENT

END:VCALENDAR
