BEGIN:VCALENDAR
VERSION:2.0
PRODID:-//ChamberMaster//Event Calendar 2.0//EN
METHOD:PUBLISH
X-PUBLISHED-TTL:P3D
REFRESH-INTERVAL:P3D
CALSCALE:GREGORIAN
BEGIN:VEVENT
DTSTART:20130329T000000Z
DTEND:20130329T020000Z
X-MICROSOFT-CDO-ALLDAYEVENT:FALSE
SUMMARY:Exhibit Opening\, Andy Behrle\, "fludity"
DESCRIPTION:Whether in the form of light projecting through moving water\, or layers of mud being washed from a wall\, Andy Behrle's work reflects upon the dichotomies of our existence. fluidity is a site-specific installation created for the Sarah Spurgeon Gallery that explores both the cycles of nature and the temporariness of humankind's fingerprint on the landscape.
X-ALT-DESC;FMTTYPE=text/html:Whether in the form of light projecting through moving water\, or layers of mud being washed from a wall\, Andy Behrle&rsquo\;s work reflects upon the dichotomies of our existence. fluidity is a site-specific installation created for the Sarah Spurgeon Gallery that explores both the cycles of nature and the temporariness of humankind&rsquo\;s fingerprint on the landscape.
LOCATION:CWU Sarah Spurgeon Gallery\, Randall Hall on Dean Nicholson Blvd.
UID:e.40.10089
SEQUENCE:3
DTSTAMP:20260420T114125Z
URL:http://business.kittitascountychamber.com/events/details/exhibit-opening-andy-behrle-fludity-03-28-2013-10089
END:VEVENT

END:VCALENDAR
