BEGIN:VCALENDAR
VERSION:2.0
PRODID:-//ChamberMaster//Event Calendar 2.0//EN
METHOD:PUBLISH
X-PUBLISHED-TTL:P3D
REFRESH-INTERVAL:P3D
CALSCALE:GREGORIAN
BEGIN:VEVENT
DTSTART:20131019T000000Z
DTEND:20131019T020000Z
X-MICROSOFT-CDO-ALLDAYEVENT:FALSE
SUMMARY:Family Fun Circus
DESCRIPTION:This Circus is family owned and operated by one of th most outstanding and talented families in the Circus world.  Get up close and personal on Friday the 18th of October at the Kittitas Valley Event Center (Bloom Pavilion).The Circus is in town for ONE DAY ONLY.   Two shows. the first being 5:00 pm and the second at 7:30 pm.  There will be clowns\,acrobats\, aerialists and many\, many more fun and exciting things to enjoy.  The Grand Finale features Captain Johnny\, the worlds\, youngest cannonball.  Each show lasts approximately an hour and a half.  with doors opening an hour early so you can get a good seat\, jump in the moon bounce and ride the child  friendly ponies.\n\n\n\nAll acts and activities are subject to change
X-ALT-DESC;FMTTYPE=text/html:This Circus is family owned and operated by one of th most outstanding and talented families in the Circus world.&nbsp\; Get up close and personal on Friday the 18th of October at the Kittitas Valley Event Center (Bloom Pavilion).The Circus is in town for ONE DAY ONLY.&nbsp\;&nbsp\; Two shows. the first being 5:00 pm and the second at 7:30 pm.&nbsp\; There will be clowns\,acrobats\, aerialists and many\, many more fun and exciting things to enjoy.&nbsp\; The Grand Finale features Captain Johnny\, the worlds\, youngest cannonball.&nbsp\; Each show lasts approximately an hour and a half.&nbsp\; with doors opening an hour early so you can get a good seat\, jump in the moon bounce and ride the child <span style="display: none">&nbsp\;</span>friendly ponies.<br />\n<br />\nAll acts and activities are subject to change
LOCATION:Kittitas Valley Event Center - Bloom Pavilion 512 N. Poplar Ellensburg
UID:e.40.10766
SEQUENCE:3
DTSTAMP:20260420T003253Z
URL:http://business.kittitascountychamber.com/events/details/family-fun-circus-10-18-2013-10766
END:VEVENT

END:VCALENDAR
