BEGIN:VCALENDAR
VERSION:2.0
PRODID:-//ChamberMaster//Event Calendar 2.0//EN
METHOD:PUBLISH
X-PUBLISHED-TTL:P3D
REFRESH-INTERVAL:P3D
CALSCALE:GREGORIAN
BEGIN:VEVENT
DTSTART;VALUE=DATE:20140705
DTEND;VALUE=DATE:20140706
TRANSP:TRANSPARENT
X-MICROSOFT-CDO-ALLDAYEVENT:TRUE
SUMMARY:Family Fun Play Day
DESCRIPTION:Location: Roslyn Riders Club Grounds- HWY 903 Outside of Roslyn\,WA\n\nSign up- Noon to 1:00pm (No late sign ups)\n\nGrand Entry and play day starts at 1:00pm\n\nClasses are determined at registration\n\nBoth fun & traditional games\n\nFamily Rates available\n\nBooths with heels required\, cetified helmets encouraged for all riders\n\nPlease no alcohol\, dogs or Stallions\n\nKitchen serving lunch & snacks\n\n\n\nInformation: Darcy Bator at (509) 674-2008 or\n\nRalph Griffin at (509) 674-2404\n\n\n\nPre-registration release forms at: www.roslynriders.com
X-ALT-DESC;FMTTYPE=text/html:Location: Roslyn Riders Club Grounds- HWY 903 Outside of Roslyn\,WA<br />\nSign up- Noon to 1:00pm (No late sign ups)<br />\nGrand Entry and play day starts at 1:00pm<br />\nClasses are determined at registration<br />\nBoth fun &amp\; traditional games<br />\nFamily Rates available<br />\nBooths with heels required\, cetified helmets encouraged for all riders<br />\nPlease no alcohol\, dogs or Stallions<br />\nKitchen serving lunch &amp\; snacks<br />\n<br />\nInformation: Darcy Bator at (509) 674-2008 or<br />\nRalph Griffin at (509) 674-2404<br />\n<br />\nPre-registration release forms at: www.roslynriders.com<br />\n&nbsp\;
LOCATION:Roslyn Riders Club Grounds- HWY 903 outside of Roslyn\, WA
UID:e.40.11312
SEQUENCE:3
DTSTAMP:20260419T141859Z
URL:http://business.kittitascountychamber.com/events/details/family-fun-play-day-07-05-2014-11312
END:VEVENT

END:VCALENDAR
