BEGIN:VCALENDAR
VERSION:2.0
PRODID:-//ChamberMaster//Event Calendar 2.0//EN
METHOD:PUBLISH
X-PUBLISHED-TTL:P3D
REFRESH-INTERVAL:P3D
CALSCALE:GREGORIAN
BEGIN:VEVENT
DTSTART:20131116T170000Z
DTEND:20131116T210000Z
X-MICROSOFT-CDO-ALLDAYEVENT:FALSE
SUMMARY:First Aid - CPR -AED Classes
DESCRIPTION:First Aid\, CPR\, AED Class: Course Content: Basic First Aid\, Adult\, Child and Infant CPR and Defibrillation (AED). AHA card is good for two years.  Loaner books available or can be purchased prior to class.  See contact information
X-ALT-DESC;FMTTYPE=text/html:First Aid\, CPR\, AED Class: Course Content: Basic First Aid\, Adult\, Child and Infant CPR and Defibrillation (AED). AHA card is good for two years.&nbsp\; Loaner books available or can be purchased prior to class.&nbsp\; See contact information
LOCATION:Ellensburg Adult Activity Center 506 S. Pine Street
UID:e.40.10707
SEQUENCE:3
DTSTAMP:20260419T224631Z
URL:http://business.kittitascountychamber.com/events/details/first-aid-cpr-aed-classes-11-16-2013-10707
END:VEVENT

END:VCALENDAR
