BEGIN:VCALENDAR
VERSION:2.0
PRODID:-//ChamberMaster//Event Calendar 2.0//EN
METHOD:PUBLISH
X-PUBLISHED-TTL:P3D
REFRESH-INTERVAL:P3D
CALSCALE:GREGORIAN
BEGIN:VEVENT
DTSTART:20140308T010000Z
DTEND:20140308T040000Z
X-MICROSOFT-CDO-ALLDAYEVENT:FALSE
SUMMARY:First Friday Art Walk
DESCRIPTION:Carolyn Hopkins\, Trailblazed (mixed media installation) in the main gallery\, Jessica Bonin\, The Distance (mixed media installation) on the mezzanine and Elizabeth Freitag (mixed media 2D work) in the Eveleth Green Gallery. Exhibits sponsored by Cornerstone Pie and PUNCH Gallery
X-ALT-DESC;FMTTYPE=text/html:Carolyn Hopkins\, Trailblazed (mixed media installation) in the main gallery\, Jessica Bonin\, The Distance (mixed media installation) on the mezzanine and Elizabeth Freitag (mixed media 2D work) in the Eveleth Green Gallery. Exhibits sponsored by Cornerstone Pie and PUNCH Gallery
LOCATION:408 N Pearl Street\, Ellensburg
UID:e.40.11179
SEQUENCE:3
DTSTAMP:20260419T161446Z
URL:http://business.kittitascountychamber.com/events/details/first-friday-art-walk-03-07-2014-11179
END:VEVENT

END:VCALENDAR
