BEGIN:VCALENDAR
VERSION:2.0
PRODID:-//ChamberMaster//Event Calendar 2.0//EN
METHOD:PUBLISH
X-PUBLISHED-TTL:P3D
REFRESH-INTERVAL:P3D
CALSCALE:GREGORIAN
BEGIN:VEVENT
DTSTART:20140405T000000Z
DTEND:20140405T030000Z
X-MICROSOFT-CDO-ALLDAYEVENT:FALSE
SUMMARY:First Friday Art Walk
DESCRIPTION:Maya Chachava - Travel Diaries (painting) in the Main Gallery\, Merrily Warren - Map Works on the Mezzanine\, Richard Dempsey - Watercolors in the Eveleth Green Gallery\, sponsored by CWU College of Arts and Humanities and Department of Art
X-ALT-DESC;FMTTYPE=text/html:Maya Chachava - Travel Diaries (painting) in the Main Gallery\, Merrily Warren - Map Works on the Mezzanine\, Richard Dempsey - Watercolors in the Eveleth Green Gallery\, sponsored by CWU College of Arts and Humanities and Department of Art
LOCATION:Gallery One\, 408 N Pearl St\, Ellensburg
UID:e.40.11189
SEQUENCE:3
DTSTAMP:20260419T161244Z
URL:http://business.kittitascountychamber.com/events/details/first-friday-art-walk-04-04-2014-11189
END:VEVENT

END:VCALENDAR
