BEGIN:VCALENDAR
VERSION:2.0
PRODID:-//ChamberMaster//Event Calendar 2.0//EN
METHOD:PUBLISH
X-PUBLISHED-TTL:P3D
REFRESH-INTERVAL:P3D
CALSCALE:GREGORIAN
BEGIN:VEVENT
DTSTART:20140503T000000Z
DTEND:20140503T030000Z
X-MICROSOFT-CDO-ALLDAYEVENT:FALSE
SUMMARY:First Friday Art Walk
DESCRIPTION:Feminine Voices in Clay with Carolyn Nelson\, Sandi Bransford\, and Thorly James in the Main Gallery and on the Mezzanine\, Joan CawleyCrane - Under Pressure (printmaking) in the Eveleth Green Gallery\, sponsored by Bluestone Academy and Sageland Properties
X-ALT-DESC;FMTTYPE=text/html:Feminine Voices in Clay with Carolyn Nelson\, Sandi Bransford\, and Thorly James in the Main Gallery and on the Mezzanine\, Joan CawleyCrane - Under Pressure (printmaking) in the Eveleth Green Gallery\, sponsored by Bluestone Academy and Sageland Properties
LOCATION:Gallery One\, 408 N Pearl St\, Ellensburg
UID:e.40.11191
SEQUENCE:3
DTSTAMP:20260419T125437Z
URL:http://business.kittitascountychamber.com/events/details/first-friday-art-walk-05-02-2014-11191
END:VEVENT

END:VCALENDAR
