BEGIN:VCALENDAR
VERSION:2.0
PRODID:-//ChamberMaster//Event Calendar 2.0//EN
METHOD:PUBLISH
X-PUBLISHED-TTL:P3D
REFRESH-INTERVAL:P3D
CALSCALE:GREGORIAN
BEGIN:VEVENT
DTSTART:20130202T010000Z
DTEND:20130202T030000Z
X-MICROSOFT-CDO-ALLDAYEVENT:FALSE
SUMMARY:First Friday Art Walk - CWU
DESCRIPTION:Please join us for the First Friday Art Walk at the Central Washington University Reception Center featuring works by Virginia Thoren - Chasing Beauty ~ New York and Paris. The intersection of advertising design\, photography\, and high fashion from the 1950's and 60's. Images from the Virginia Thoren collection courtesy of Pratt Institute Libraries. Friday\, February 1\, 2013 5:00 - 7:00 p.m. CWU University Reception Center\, 211 East 10th Avenue Hosted by Jim and Katie Gaudino Exhibition catalog by Patricia J. Cutright Exhibition curated by Kenneth Girrard and Betty Guernsey
X-ALT-DESC;FMTTYPE=text/html:Please join us for the First Friday Art Walk at the Central Washington University Reception Center featuring works by Virginia Thoren - Chasing Beauty ~ New York and Paris. The intersection of advertising design\, photography\, and high fashion from the 1950&#39\;s and 60&#39\;s. Images from the Virginia Thoren collection courtesy of Pratt Institute Libraries. Friday\, February 1\, 2013 5:00 - 7:00 p.m. CWU University Reception Center\, 211 East 10th Avenue Hosted by Jim and Katie Gaudino Exhibition catalog by Patricia J. Cutright Exhibition curated by Kenneth Girrard and Betty Guernsey
LOCATION:CWU - University Reception Center 211 East Tenth Avenue Ellensburg WA
UID:e.40.9208
SEQUENCE:3
DTSTAMP:20260420T143752Z
URL:http://business.kittitascountychamber.com/events/details/first-friday-art-walk-cwu-02-01-2013-9208
END:VEVENT

END:VCALENDAR
