BEGIN:VCALENDAR
VERSION:2.0
PRODID:-//ChamberMaster//Event Calendar 2.0//EN
METHOD:PUBLISH
X-PUBLISHED-TTL:P3D
REFRESH-INTERVAL:P3D
CALSCALE:GREGORIAN
BEGIN:VEVENT
DTSTART:20130302T000000Z
DTEND:20130302T040000Z
X-MICROSOFT-CDO-ALLDAYEVENT:FALSE
SUMMARY:First Friday Art Walk Featuring Bunnell Family Cellars
DESCRIPTION:First Friday Art Walk and Wine Tasting with Bunnell Family Cellars -\n\nWe are very excited to host both Bunnell Family Cellars and Wine O'Clock Wines this Friday!  Besides some of our favorites\, Bunnell will also pour a pre-release Bunnell Family Cellars Malbec and will introduce the new Wine O'Clock white.  Don't miss these fantastic wines! Tasting is $1 per taste or FREE with purchase of any of the featured wines.  Buy 3 or more of the featured wines and receive 15% off those wines (Friday night only.)\n\nWe will also have a tapas menu by Zane Kinney.  Tasting will continue all day Saturday.
X-ALT-DESC;FMTTYPE=text/html:First Friday Art Walk and Wine Tasting with Bunnell Family Cellars -<br />\nWe are very excited to host both Bunnell Family Cellars and Wine O&#39\;Clock Wines this Friday! &nbsp\;Besides some of our favorites\, Bunnell will also pour a pre-release Bunnell Family Cellars Malbec and will introduce the new Wine O&#39\;Clock white.&nbsp\; Don&#39\;t miss these fantastic wines!&nbsp\;Tasting is $1 per taste or FREE with purchase of any of the featured wines.&nbsp\; Buy 3 or more of the featured wines and receive 15% off those wines (Friday night only.)<br />\nWe will also have a tapas menu by Zane Kinney. &nbsp\;Tasting will continue all day Saturday.
LOCATION:115 E 4th Avenue
UID:e.40.9276
SEQUENCE:3
DTSTAMP:20260420T114125Z
URL:http://business.kittitascountychamber.com/events/details/first-friday-art-walk-featuring-bunnell-family-cellars-03-01-2013-9276
END:VEVENT

END:VCALENDAR
