BEGIN:VCALENDAR
VERSION:2.0
PRODID:-//ChamberMaster//Event Calendar 2.0//EN
METHOD:PUBLISH
X-PUBLISHED-TTL:P3D
REFRESH-INTERVAL:P3D
CALSCALE:GREGORIAN
BEGIN:VEVENT
DTSTART:20140103T170000Z
DTEND:20140103T180000Z
X-MICROSOFT-CDO-ALLDAYEVENT:FALSE
SUMMARY:First Friday Coffee Club
DESCRIPTION:Join us for First Friday Coffee Club\, brought to you by the Kittitas County Chamber of Commerce.\n\nThe First Friday Coffee Club meets the first Friday of each month \, from 9 -10 am. Coffee Club is an informal networking opportunity to share your business with others in the community\, it is free and open to any business in the county. For more information about the First Friday Coffee Club call 509-925-2002\n\nJanuary Coffee Club is Sponsored & Hosted by\n\nSolarity Credit Union
X-ALT-DESC;FMTTYPE=text/html:<span style="font-size: medium\;">Join us for First Friday Coffee Club\, brought to you by the Kittitas County Chamber of Commerce.<br />\nThe First Friday Coffee Club meets the first Friday of each month \, from 9 -10 am. Coffee Club is an informal networking opportunity to share your business with others in the community\, it is free and open to any business in the county. For more information about the First Friday <span style="font-size: 16px\;">Coffee Club&nbsp\;call 509-925-2002<br />\n<em><strong>January&nbsp\;Coffee Club is Sponsored &amp\; Hosted&nbsp\;by<br />\n<span style="color: rgb(0\, 0\, 255)\;">Solarity&nbsp\;Credit Union</span></strong></em></span></span>
LOCATION:Solarity Credit Union 900 S. Ruby St.\, Ellensburg
UID:e.40.10889
SEQUENCE:3
DTSTAMP:20260419T191329Z
URL:http://business.kittitascountychamber.com/events/details/first-friday-coffee-club-01-03-2014-10889
END:VEVENT

END:VCALENDAR
