BEGIN:VCALENDAR
VERSION:2.0
PRODID:-//ChamberMaster//Event Calendar 2.0//EN
METHOD:PUBLISH
X-PUBLISHED-TTL:P3D
REFRESH-INTERVAL:P3D
CALSCALE:GREGORIAN
BEGIN:VEVENT
DTSTART:20140404T160000Z
DTEND:20140404T160000Z
X-MICROSOFT-CDO-ALLDAYEVENT:FALSE
SUMMARY:First Friday Coffee Club
DESCRIPTION:Join us for First Friday Coffee Club\, brought to you by the Kittitas County Chamber of Commerce.\n\nThe First Friday Coffee Club meets the first Friday of each month \, from 9 -10 am. Coffee Club is an informal networking opportunity to share your business with others in the community\, it is free and open to any business in the county. For more information about the First Friday Coffee Club call 509-925-2002\n\nApril First Friday Coffee Club is Hosted & Sponsored by:\n\nThe Western Art Association Goodey Gallery\n\nSpecial preview of the artwork for the 2014 National  Western Art Association Auction and enter for the chance to win tickets to the Western Art Dinner Auction\, Art of Wine Tasting & Bares and Broncs- you won't want to miss this !
X-ALT-DESC;FMTTYPE=text/html:<span style="font-size: medium\;">Join us for First Friday Coffee Club\, brought to you by the Kittitas County Chamber of Commerce.<br />\nThe First Friday Coffee Club meets the first Friday of each month \, from 9 -10 am. Coffee Club is an informal networking opportunity to share your business with others in the community\, it is free and open to any business in the county. For more information about the First Friday <span style="font-size: 16px\;">Coffee Club&nbsp\;call 509-925-2002<br />\n<span style="color: rgb(75\, 0\, 130)\;"><strong><em>April First Friday Coffee Club&nbsp\;is Hosted &amp\; Sponsored by:<br />\nThe Western Art Association Goodey&nbsp\;Gallery</em></strong></span></span></span><br />\n<strong><em><font size="3">Special preview of the artwork for the&nbsp\;2014 National&nbsp\; Western Art Association Auction and enter&nbsp\;for the chance to win tickets to the Western Art Dinner Auction\, Art of Wine Tasting &amp\; Bares and Broncs- you won&#39\;t want to miss this !</font></em></strong><br />\n&nbsp\;
LOCATION:Western Art Goodey Gallery 309 N. Pearl St\, Ellensburg
UID:e.40.11224
SEQUENCE:3
DTSTAMP:20260419T143751Z
URL:http://business.kittitascountychamber.com/events/details/first-friday-coffee-club-04-04-2014-11224
END:VEVENT

END:VCALENDAR
