BEGIN:VCALENDAR
VERSION:2.0
PRODID:-//ChamberMaster//Event Calendar 2.0//EN
METHOD:PUBLISH
X-PUBLISHED-TTL:P3D
REFRESH-INTERVAL:P3D
CALSCALE:GREGORIAN
BEGIN:VEVENT
DTSTART:20140502T160000Z
DTEND:20140502T170000Z
X-MICROSOFT-CDO-ALLDAYEVENT:FALSE
SUMMARY:First Friday Coffee Club
DESCRIPTION:Join us for First Friday Coffee Club\, brought to you by the Kittitas County Chamber of Commerce.\n\nThe First Friday Coffee Club meets the first Friday of each month \, from 9 -10 am. Coffee Club is an informal networking opportunity to share your business with others in the community\, it is free and open to any business in the county. For more information about the First Friday Coffee Club call 509-925-2002\n\nMay First Friday Coffee Club is Sponsored and Hosted By : F.I.S.H Food Bank\n\nLearn about who F.I.S.H is and what they do to help our community\, they are much more than a food bank.
X-ALT-DESC;FMTTYPE=text/html:<span style="font-size: medium\;">Join us for First Friday Coffee Club\, brought to you by the Kittitas County Chamber of Commerce.<br />\nThe First Friday Coffee Club meets the first Friday of each month \, from 9 -10 am. Coffee Club is an informal networking opportunity to share your business with others in the community\, it is free and open to any business in the county. For more information about the First Friday <span style="font-size: 16px\;">Coffee Club&nbsp\;call 509-925-2002<br />\n<b><i>May First Friday Coffee Club is Sponsored and Hosted By : <span style="color:#0000FF\;">F.I.S.H Food Bank</span></i></b></span></span><br />\nLearn about who F.I.S.H is and what they do to help our community\, they are much more than a food bank.<br />\n<br />\n&nbsp\;
LOCATION:Fish Food Bank 301 W. 2nd Ave Ellensburg
UID:e.40.11230
SEQUENCE:3
DTSTAMP:20260419T130026Z
URL:http://business.kittitascountychamber.com/events/details/first-friday-coffee-club-05-02-2014-11230
END:VEVENT

END:VCALENDAR
