BEGIN:VCALENDAR
VERSION:2.0
PRODID:-//ChamberMaster//Event Calendar 2.0//EN
METHOD:PUBLISH
X-PUBLISHED-TTL:P3D
REFRESH-INTERVAL:P3D
CALSCALE:GREGORIAN
BEGIN:VEVENT
DTSTART:20130503T160000Z
DTEND:20130503T170000Z
X-MICROSOFT-CDO-ALLDAYEVENT:FALSE
SUMMARY:First Friday Coffee Club
DESCRIPTION:Mark your calendar now for the First Friday Coffee Club\, brought to you by the Kittitas County Chamber of Commerce. The First Friday Coffee Club starts May 3rd\, from 9 till 10 am. This will be an informal networking opportunity to share your business with others in the community\, and is free and open to any business in the county. For more information about the First Friday Coffee Club on May 3rd \, call 509-925-2002
X-ALT-DESC;FMTTYPE=text/html:<span style="font-size: medium"><span style="font-family: arial">Mark your calendar now for the First Friday Coffee Club\, brought to you by the Kittitas County Chamber of Commerce. The First Friday Coffee Club starts May 3<sup><span style="font-size: small">rd</span></sup>\, from 9 till 10 am.&nbsp\;This will be an informal networking opportunity to share your business with others in the community\, and is free and open to any business in the county. For more information about the First Friday <span style="font-size: 16px">Coffee Club on May 3rd \, call 509-925-2002</span></span></span>
LOCATION:The Chamber Boardroom 609 N. Main Street Ellensburg
UID:e.40.10268
SEQUENCE:3
DTSTAMP:20260420T083303Z
URL:http://business.kittitascountychamber.com/events/details/first-friday-coffee-club-05-03-2013-10268
END:VEVENT

END:VCALENDAR
