BEGIN:VCALENDAR
VERSION:2.0
PRODID:-//ChamberMaster//Event Calendar 2.0//EN
METHOD:PUBLISH
X-PUBLISHED-TTL:P3D
REFRESH-INTERVAL:P3D
CALSCALE:GREGORIAN
BEGIN:VEVENT
DTSTART:20130906T160000Z
DTEND:20130906T170000Z
X-MICROSOFT-CDO-ALLDAYEVENT:FALSE
SUMMARY:First Friday Coffee Club
DESCRIPTION:Join us for First Friday Coffee Club\, brought to you by the Kittitas County Chamber of Commerce.\n\nThe First Friday Coffee Club meets the first Friday of each month \, from 9 -10 am. Coffee Club is an informal networking opportunity to share your business with others in the community\, it is free and open to any business in the county. For more information about the First Friday Coffee Club call 509-925-2002\n\nSeptember Coffee Club is Sponsored by\n\nHoliday Inn Express.
X-ALT-DESC;FMTTYPE=text/html:<span style="font-size: medium\;">Join us for First Friday Coffee Club\, brought to you by the Kittitas County Chamber of Commerce.<br />\nThe First Friday Coffee Club meets the first Friday of each month \, from 9 -10 am. Coffee Club is an informal networking opportunity to share your business with others in the community\, it is free and open to any business in the county. For more information about the First Friday <span style="font-size: 16px\;">Coffee Club&nbsp\;call 509-925-2002<br />\n<em><strong>September&nbsp\;Coffee Club is Sponsored by<br />\n<span style="color: rgb(0\, 0\, 255)\;">Holiday Inn Express</span>.</strong></em></span></span>
LOCATION:Holiday Inn Express 1620 Canyon Rd Ellensburg
UID:e.40.10435
SEQUENCE:3
DTSTAMP:20260420T020724Z
URL:http://business.kittitascountychamber.com/events/details/first-friday-coffee-club-09-06-2013-10435
END:VEVENT

END:VCALENDAR
