BEGIN:VCALENDAR
VERSION:2.0
PRODID:-//ChamberMaster//Event Calendar 2.0//EN
METHOD:PUBLISH
X-PUBLISHED-TTL:P3D
REFRESH-INTERVAL:P3D
CALSCALE:GREGORIAN
BEGIN:VEVENT
DTSTART:20131101T160000Z
DTEND:20131101T170000Z
X-MICROSOFT-CDO-ALLDAYEVENT:FALSE
SUMMARY:First Friday Coffee Club
DESCRIPTION:Join us for First Friday Coffee Club\, brought to you by the Kittitas County Chamber of Commerce.\n\nThe First Friday Coffee Club meets the first Friday of each month \, from 9 -10 am. Coffee Club is an informal networking opportunity to share your business with others in the community\, it is free and open to any business in the county. For more information about the First Friday Coffee Club call 509-925-2002\n\nNovember Coffee Club is Sponsored & Hosted by\n\nUtopia Frozen Yogurt & Coffee Bar
X-ALT-DESC;FMTTYPE=text/html:<span style="font-size: medium\;">Join us for First Friday Coffee Club\, brought to you by the Kittitas County Chamber of Commerce.<br />\nThe First Friday Coffee Club meets the first Friday of each month \, from 9 -10 am. Coffee Club is an informal networking opportunity to share your business with others in the community\, it is free and open to any business in the county. For more information about the First Friday <span style="font-size: 16px\;">Coffee Club&nbsp\;call 509-925-2002<br />\n<em><strong>November&nbsp\;Coffee Club is Sponsored &amp\; Hosted&nbsp\;by<br />\n<span style="color: rgb(0\, 0\, 255)\;">Utopia Frozen Yogurt &amp\; Coffee Bar</span></strong></em></span></span>
LOCATION:Utopia Frozen Yogurt & Coffee Bar 706 E University Way\, Ellensburg
UID:e.40.10776
SEQUENCE:3
DTSTAMP:20260419T225101Z
URL:http://business.kittitascountychamber.com/events/details/first-friday-coffee-club-11-01-2013-10776
END:VEVENT

END:VCALENDAR
