BEGIN:VCALENDAR
VERSION:2.0
PRODID:-//ChamberMaster//Event Calendar 2.0//EN
METHOD:PUBLISH
X-PUBLISHED-TTL:P3D
REFRESH-INTERVAL:P3D
CALSCALE:GREGORIAN
BEGIN:VEVENT
DTSTART:20131206T170000Z
DTEND:20131206T180000Z
X-MICROSOFT-CDO-ALLDAYEVENT:FALSE
SUMMARY:First Friday Coffee Club
DESCRIPTION:Join us for First Friday Coffee Club\, brought to you by the Kittitas County Chamber of Commerce.\n\nThe First Friday Coffee Club meets the first Friday of each month \, from 9 -10 am. Coffee Club is an informal networking opportunity to share your business with others in the community\, it is free and open to any business in the county. For more information about the First Friday Coffee Club call 509-925-2002\n\nDecember Coffee Club is Sponsored & Hosted by\n\nPerkins Family Restaurant & Bakery
X-ALT-DESC;FMTTYPE=text/html:<span style="font-size: medium\;">Join us for First Friday Coffee Club\, brought to you by the Kittitas County Chamber of Commerce.<br />\nThe First Friday Coffee Club meets the first Friday of each month \, from 9 -10 am. Coffee Club is an informal networking opportunity to share your business with others in the community\, it is free and open to any business in the county. For more information about the First Friday <span style="font-size: 16px\;">Coffee Club&nbsp\;call 509-925-2002<br />\n<em><strong>December Coffee Club is Sponsored &amp\; Hosted&nbsp\;by<br />\n<span style="color: rgb(0\, 0\, 255)\;">Perkins Family Restaurant &amp\; Bakery</span></strong></em></span></span>
LOCATION:Perkins Family Restaurant & Bakery 1504 Hwy 97\, Ellensburg
UID:e.40.10845
SEQUENCE:3
DTSTAMP:20260419T210823Z
URL:http://business.kittitascountychamber.com/events/details/first-friday-coffee-club-12-06-2013-10845
END:VEVENT

END:VCALENDAR
