BEGIN:VCALENDAR
VERSION:2.0
PRODID:-//ChamberMaster//Event Calendar 2.0//EN
METHOD:PUBLISH
X-PUBLISHED-TTL:P3D
REFRESH-INTERVAL:P3D
CALSCALE:GREGORIAN
BEGIN:VEVENT
DTSTART;VALUE=DATE:20131207
DTEND;VALUE=DATE:20131208
TRANSP:TRANSPARENT
X-MICROSOFT-CDO-ALLDAYEVENT:TRUE
SUMMARY:First Saturday Birdwalk
DESCRIPTION:The First Saturday Birdwalk is sponsored by the Kittitas Audubon Society.  Dress for the weather\, grab your binoculars and cameras and meet down at the Irene Rinehart Riverfront Park parking lot at 8:00am to explore the bird wildlife in the Ellensburg area.
X-ALT-DESC;FMTTYPE=text/html:The First Saturday Birdwalk is sponsored by the Kittitas Audubon Society.  Dress for the weather\, grab your binoculars and cameras and meet down at the Irene Rinehart Riverfront Park parking lot at 8:00am to explore the bird wildlife in the Ellensburg area.
LOCATION:Irene Rinehart Riverfront Park
UID:e.40.904
SEQUENCE:3
DTSTAMP:20260419T210542Z
URL:http://business.kittitascountychamber.com/events/details/first-saturday-birdwalk-12-07-2013-904
END:VEVENT

END:VCALENDAR
