BEGIN:VCALENDAR
VERSION:2.0
PRODID:-//ChamberMaster//Event Calendar 2.0//EN
METHOD:PUBLISH
X-PUBLISHED-TTL:P3D
REFRESH-INTERVAL:P3D
CALSCALE:GREGORIAN
BEGIN:VEVENT
DTSTART:20190712T160000Z
DTEND:20190712T170000Z
X-MICROSOFT-CDO-ALLDAYEVENT:FALSE
SUMMARY:First (Second) Friday Coffee Club
DESCRIPTION:Join us for First Friday Coffee Club on the SECOND Friday of the month\, July 12th at the Chamber! Enjoy coffee and snacks while networking with local business professionals.\n\n\n\nDon't miss this month! We'll be introducing our staff\, as well as going over what we have planned for the future\, and raffling off the chance to spin our brand new prize wheel! \n\n \n\nThe First Friday Coffee Club is an informal networking opportunity to share your business with others in the community. It's free and open for anyone to attend. Don't forget your business cards!
X-ALT-DESC;FMTTYPE=text/html:Join us for First Friday Coffee Club on the SECOND Friday of the month\, July 12th at the Chamber! Enjoy coffee and snacks while networking with local business professionals.<br />\n<br />\nDon&#39\;t miss this month! We&#39\;ll be introducing our staff\, as well as going over what we have planned for the future\, and raffling off the chance to spin our brand new prize wheel!&nbsp\;<br />\n&nbsp\;<br />\nThe First Friday Coffee Club is an informal networking opportunity to share your business with others in the community. It&#39\;s free and open for anyone to attend. Don&#39\;t forget your business cards!
LOCATION:609 N Main Street Ellensburg\, WA 98926
UID:e.40.25862
SEQUENCE:3
DTSTAMP:20260421T131534Z
URL:http://business.kittitascountychamber.com/events/details/first-second-friday-coffee-club-25862
END:VEVENT

END:VCALENDAR
