BEGIN:VCALENDAR
VERSION:2.0
PRODID:-//ChamberMaster//Event Calendar 2.0//EN
METHOD:PUBLISH
X-PUBLISHED-TTL:P3D
REFRESH-INTERVAL:P3D
CALSCALE:GREGORIAN
BEGIN:VEVENT
DTSTART:20131212T013000Z
DTEND:20131213T040000Z
X-MICROSOFT-CDO-ALLDAYEVENT:FALSE
SUMMARY:First-Time Homeowner Seminar
DESCRIPTION:Washington State Housing Finance Commission First-Time Homeowner FREE Seminar.......\n\nWednesday and Thursday - December 11th & 12th\n\n5:30 pm - 8:00 pm\n\n204 E 6th Avenue.\n\nBring your own beverages and snacks    \n\nthose completing tis course will receive a Certificate for Down-Payment Assistance Programs through WSHFC
X-ALT-DESC;FMTTYPE=text/html:Washington State Housing Finance Commission First-Time Homeowner FREE Seminar.......<br />\nWednesday and Thursday - December 11th &amp\; 12th<br />\n5:30 pm - 8:00 pm<br />\n204 E 6th Avenue.<br />\nBring your own beverages and snacks&nbsp\;&nbsp\;&nbsp\;&nbsp\;<br />\nthose completing tis course will receive a Certificate for Down-Payment Assistance Programs through WSHFC
LOCATION:204 E. 6th Avenue Ellensburg
UID:e.40.10846
SEQUENCE:3
DTSTAMP:20260419T210659Z
URL:http://business.kittitascountychamber.com/events/details/first-time-homeowner-seminar-12-11-2013-10846
END:VEVENT

END:VCALENDAR
