BEGIN:VCALENDAR
VERSION:2.0
PRODID:-//ChamberMaster//Event Calendar 2.0//EN
METHOD:PUBLISH
X-PUBLISHED-TTL:P3D
REFRESH-INTERVAL:P3D
CALSCALE:GREGORIAN
BEGIN:VEVENT
DTSTART:20130421T220000Z
DTEND:20130422T000000Z
X-MICROSOFT-CDO-ALLDAYEVENT:FALSE
SUMMARY:FISH FOOD BANK
DESCRIPTION:Due to everyone's generous support\, the Board of Directors for FISH was able to put a down payment on the Snickelldoodle Building !!!! We want to celebrate and say "Thank You"\, so please join us  at the FISH Open House\n\n\n\nSunday April 21st\, 3:00 - 5:00 pm\n\n\n\nFISH at Snickelldoodle...301 W. 2nd Avenue
X-ALT-DESC;FMTTYPE=text/html:Due to everyone&#39\;s generous support\, the Board of Directors for FISH was able to put a down payment on the Snickelldoodle Building !!!! We want to celebrate and say &quot\;Thank You&quot\;\, so please join us&nbsp\; at the FISH Open House<br />\n<br />\nSunday April 21st\, 3:00 - 5:00 pm<br />\n<br />\nFISH at Snickelldoodle...301 W. 2nd Avenue
LOCATION:FISH - 301 W. 2nd. Avenue
UID:e.40.10145
SEQUENCE:3
DTSTAMP:20260420T101603Z
URL:http://business.kittitascountychamber.com/events/details/fish-food-bank-04-21-2013-10145
END:VEVENT

END:VCALENDAR
