BEGIN:VCALENDAR
VERSION:2.0
PRODID:-//ChamberMaster//Event Calendar 2.0//EN
METHOD:PUBLISH
X-PUBLISHED-TTL:P3D
REFRESH-INTERVAL:P3D
CALSCALE:GREGORIAN
BEGIN:VEVENT
DTSTART:20130331T023000Z
DTEND:20130331T040000Z
X-MICROSOFT-CDO-ALLDAYEVENT:FALSE
SUMMARY:Flash Light Easter Egg Hunt in Cle Elum
DESCRIPTION:
X-ALT-DESC;FMTTYPE=text/html:
LOCATION:
UID:e.40.10103
SEQUENCE:3
DTSTAMP:20260420T113554Z
URL:http://business.kittitascountychamber.com/events/details/flash-light-easter-egg-hunt-in-cle-elum-03-30-2013-10103
END:VEVENT

END:VCALENDAR
