BEGIN:VCALENDAR
VERSION:2.0
PRODID:-//ChamberMaster//Event Calendar 2.0//EN
METHOD:PUBLISH
X-PUBLISHED-TTL:P3D
REFRESH-INTERVAL:P3D
CALSCALE:GREGORIAN
BEGIN:VEVENT
DTSTART:20130330T030000Z
DTEND:20130330T040000Z
X-MICROSOFT-CDO-ALLDAYEVENT:FALSE
SUMMARY:Flashlight Easter Egg Hunt
DESCRIPTION:Easter Egg Hunt for ages 3-12 "Flashlight" style\,  at Mtn View Park.
X-ALT-DESC;FMTTYPE=text/html:Easter Egg Hunt for ages 3-12 &quot\;Flashlight&quot\; style\,&nbsp\; at Mtn View Park.
LOCATION:Mtn. View Park. Maple Street and Manitoba Ave.
UID:e.40.10101
SEQUENCE:3
DTSTAMP:20260420T113442Z
URL:http://business.kittitascountychamber.com/events/details/flashlight-easter-egg-hunt-03-29-2013-10101
END:VEVENT

END:VCALENDAR
