BEGIN:VCALENDAR
VERSION:2.0
PRODID:-//ChamberMaster//Event Calendar 2.0//EN
METHOD:PUBLISH
X-PUBLISHED-TTL:P3D
REFRESH-INTERVAL:P3D
CALSCALE:GREGORIAN
BEGIN:VEVENT
DTSTART;VALUE=DATE:20130330
DTEND;VALUE=DATE:20130331
TRANSP:TRANSPARENT
X-MICROSOFT-CDO-ALLDAYEVENT:TRUE
SUMMARY:Flashlight Easter Egg Hunt
DESCRIPTION:Flashlight Easter Egg Hunt\, Cle Elum Elementary Field.  Contact Christine Heimbigne at 509-260-0011 for details
X-ALT-DESC;FMTTYPE=text/html:Flashlight Easter Egg Hunt\, Cle Elum Elementary Field.&nbsp\; Contact Christine Heimbigne at 509-260-0011 for details
LOCATION:Cle Elum Elementary Field
UID:e.40.10099
SEQUENCE:3
DTSTAMP:20260420T113442Z
URL:http://business.kittitascountychamber.com/events/details/flashlight-easter-egg-hunt-03-30-2013-10099
END:VEVENT

END:VCALENDAR
