BEGIN:VCALENDAR
VERSION:2.0
PRODID:-//ChamberMaster//Event Calendar 2.0//EN
METHOD:PUBLISH
X-PUBLISHED-TTL:P3D
REFRESH-INTERVAL:P3D
CALSCALE:GREGORIAN
BEGIN:VEVENT
DTSTART:20130910T190000Z
DTEND:20130910T210000Z
X-MICROSOFT-CDO-ALLDAYEVENT:FALSE
SUMMARY:Frame Adjustment
DESCRIPTION:Mountain View Meadows Assisted Living is glad to team up with Boys Smith Vision Center to help you get your glasses properly fitted.  Bring your eyewear  to 1008 Mountain View Avenue.  You will enjoy meeting Dr. Daniel Hanson and Addie\, as well as our family at Mountain View Meadows.  Refreshments will be served.
X-ALT-DESC;FMTTYPE=text/html:Mountain View Meadows Assisted Living is glad to team up with Boys Smith Vision Center to help you get your glasses properly fitted.&nbsp\; Bring your eyewear &nbsp\;to 1008 Mountain View Avenue.&nbsp\; You will enjoy meeting Dr. Daniel Hanson and Addie\, as well as our family at Mountain View Meadows.&nbsp\; Refreshments will be served.
LOCATION:Mountain View Meadows 1008 E. Mountain View Avenue Ellensburg
UID:e.40.10445
SEQUENCE:3
DTSTAMP:20260420T015202Z
URL:http://business.kittitascountychamber.com/events/details/frame-adjustment-09-10-2013-10445
END:VEVENT

END:VCALENDAR
