BEGIN:VCALENDAR
VERSION:2.0
PRODID:-//ChamberMaster//Event Calendar 2.0//EN
METHOD:PUBLISH
X-PUBLISHED-TTL:P3D
REFRESH-INTERVAL:P3D
CALSCALE:GREGORIAN
BEGIN:VEVENT
DTSTART:20130627T020000Z
DTEND:20130627T040000Z
X-MICROSOFT-CDO-ALLDAYEVENT:FALSE
SUMMARY:Free Adult CPR/AED Classes
DESCRIPTION:This is a free adult CPR/AED Class.  You are the first and most important link in the chain of survival for a victim or cardiac arrest.\n\n\n\nLearn how easy it is to make a difference\n\n\n\nNo Reservation or Fee      \n\nYou have      several dates and two locations to choose from......Once the class is completed you may purchase your AHA CPR card for $5.00
X-ALT-DESC;FMTTYPE=text/html:This is a free adult CPR/AED Class.&nbsp\; You are the first and most important link in the chain of survival for a victim or cardiac arrest.<br />\n<br />\nLearn&nbsp\;how easy it is to make a difference<br />\n<br />\n<span style="color: #ff0000">No Reservation or Fee&nbsp\;&nbsp\;&nbsp\;&nbsp\;&nbsp\;&nbsp\;</span><br />\nYou have&nbsp\;&nbsp\;&nbsp\;&nbsp\;&nbsp\;&nbsp\;several dates and two locations to choose from......Once the class is completed you may purchase your AHA CPR card for $5.00&nbsp\;&nbsp\;&nbsp\;&nbsp\;&nbsp\;&nbsp\;&nbsp\;&nbsp\;&nbsp\;&nbsp\;&nbsp\;
LOCATION:Upper County Centennial Center 719 E. 3rd Street Cle Elum Wednesdays April 24th May 22nd June 26th Lower County Adult Activity Center 506 S. Pine Street Ellensburg Mondays April 29th May 13th June 17th
UID:e.40.10260
SEQUENCE:3
DTSTAMP:20260420T064842Z
URL:http://business.kittitascountychamber.com/events/details/free-adult-cpr-aed-classes-06-26-2013-10260
END:VEVENT

END:VCALENDAR
