BEGIN:VCALENDAR
VERSION:2.0
PRODID:-//ChamberMaster//Event Calendar 2.0//EN
METHOD:PUBLISH
X-PUBLISHED-TTL:P3D
REFRESH-INTERVAL:P3D
CALSCALE:GREGORIAN
BEGIN:VEVENT
DTSTART:20131112T030000Z
DTEND:20131112T050000Z
X-MICROSOFT-CDO-ALLDAYEVENT:FALSE
SUMMARY:FREE CPR-AED CLASSES
DESCRIPTION:You are the first and most important link in the chain of survival for a victim of cardiac arrest....pick a date and come to a class..we will show you how easy it is to make a difference!
X-ALT-DESC;FMTTYPE=text/html:You are the first and most important link in the chain of survival for a victim of cardiac arrest....pick a date and come to a class..we will show you how easy it is to make a difference!
LOCATION:Ellensburg Classes - Adult Activity Center 506 S. Pine Street Cle Elum Classes - UKCS - Centennial Center - 719 E. 3rd Street
UID:e.40.10701
SEQUENCE:3
DTSTAMP:20260419T224803Z
URL:http://business.kittitascountychamber.com/events/details/free-cpr-aed-classes-11-11-2013-10701
END:VEVENT

END:VCALENDAR
