BEGIN:VCALENDAR
VERSION:2.0
PRODID:-//ChamberMaster//Event Calendar 2.0//EN
METHOD:PUBLISH
X-PUBLISHED-TTL:P3D
REFRESH-INTERVAL:P3D
CALSCALE:GREGORIAN
BEGIN:VEVENT
DTSTART:20130420T180000Z
DTEND:20130420T210000Z
X-MICROSOFT-CDO-ALLDAYEVENT:FALSE
SUMMARY:FREE Document Shred Day
DESCRIPTION:FREE Document Shred Day & Turn in your Unused or Expired Medication for Safe Disposal\n\n	April 20\, 2013\n\n	11:00 am until 2:00 pm\n\n	Safely shred your old documents\, free to residents\, no businesses please\n\n	Kittitas County Solid Waste\, 925 Industrial Way\, Ellensburg\n\n	Sponsored by RSVP and Volunteer Center of Kittitas County \,The SHIBA Helpline\,\n\n	Kittitas County Solid Waste \, Kittitas County Community Network & Coalition and the Kittitas County sheriffs Office\n\n	Held in conjunction with the Earth Day Celebration at Solid Waste.
X-ALT-DESC;FMTTYPE=text/html:<p>\n	<strong><span data-mce-style="font-family: 'Arial'\,'sans-serif'\;" style="font-family: 'Arial'\, 'sans-serif'">FREE Document Shred Day &amp\;&nbsp\;Turn in your Unused or Expired Medication for Safe Disposal</span></strong></p>\n<p>\n	<strong><span data-mce-style="font-family: 'Arial'\,'sans-serif'\;" style="font-family: 'Arial'\, 'sans-serif'">April 20\, 2013</span></strong></p>\n<p>\n	<span data-mce-style="font-family: 'Arial'\,'sans-serif'\;" style="font-family: 'Arial'\, 'sans-serif'">11:00 am until 2:00 pm</span></p>\n<p>\n	<span data-mce-style="font-family: 'Arial'\,'sans-serif'\;" style="font-family: 'Arial'\, 'sans-serif'">Safely shred your old documents\, free to residents\, no&nbsp\;businesses please</span></p>\n<p>\n	<span data-mce-style="font-family: 'Arial'\,'sans-serif'\;" style="font-family: 'Arial'\, 'sans-serif'">Kittitas County Solid Waste\, 925 Industrial Way\, Ellensburg</span></p>\n<p>\n	<span data-mce-style="font-family: 'Arial'\,'sans-serif'\;" style="font-family: 'Arial'\, 'sans-serif'">Sponsored by RSVP and Volunteer Center of Kittitas County&nbsp\;\,The SHIBA Helpline\,<br />\n	Kittitas County Solid Waste \, Kittitas County Community Network &amp\; Coalition and the Kittitas County sheriffs Office</span></p>\n<p>\n	<span data-mce-style="font-family: 'Arial'\,'sans-serif'\;" style="font-family: 'Arial'\, 'sans-serif'">Held in conjunction with the Earth Day Celebration at Solid Waste.</span></p>\n
LOCATION:Kittitas County Solid Waste\, 925 Industrial Way\, Ellensburg WA
UID:e.40.9245
SEQUENCE:3
DTSTAMP:20260420T100119Z
URL:http://business.kittitascountychamber.com/events/details/free-document-shred-day-04-20-2013-9245
END:VEVENT

END:VCALENDAR
