BEGIN:VCALENDAR
VERSION:2.0
PRODID:-//ChamberMaster//Event Calendar 2.0//EN
METHOD:PUBLISH
X-PUBLISHED-TTL:P3D
REFRESH-INTERVAL:P3D
CALSCALE:GREGORIAN
BEGIN:VEVENT
DTSTART:20140419T160000Z
DTEND:20140419T210000Z
X-MICROSOFT-CDO-ALLDAYEVENT:FALSE
SUMMARY:FREE Document Shred Day for residents
DESCRIPTION:FREE Document Shred Day for residents. Held in conjunction with Earth Day Events. Hosted by RSVP and Volunteer Center\, Wa. State Office of the Insurance Commissioner - SHIBA Program\, Kittitas County Sheriff Office\, and CWU Police.
X-ALT-DESC;FMTTYPE=text/html:FREE Document Shred Day for residents. Held in conjunction with Earth Day Events. Hosted by RSVP and Volunteer Center\, Wa. State Office of the Insurance Commissioner - SHIBA Program\, Kittitas County Sheriff Office\, and CWU Police. 
LOCATION:1211 D. Street\, Ellensburg - CWU Police parking lot
UID:e.40.11129
SEQUENCE:3
DTSTAMP:20260419T143947Z
URL:http://business.kittitascountychamber.com/events/details/free-document-shred-day-for-residents-04-19-2014-11129
END:VEVENT

END:VCALENDAR
