BEGIN:VCALENDAR
VERSION:2.0
PRODID:-//ChamberMaster//Event Calendar 2.0//EN
METHOD:PUBLISH
X-PUBLISHED-TTL:P3D
REFRESH-INTERVAL:P3D
CALSCALE:GREGORIAN
BEGIN:VEVENT
DTSTART:20140419T160000Z
DTEND:20140419T210000Z
X-MICROSOFT-CDO-ALLDAYEVENT:FALSE
SUMMARY:FREE Drug Take Back Day
DESCRIPTION:FREE Drug Take Back Day. Safely dispose of unused and out of date medications. Held in conjunction with Earth Day Events on April 19. Hosted by RSVP and Volunteer Center\, Kittitas County Sheriff Office\, CWU Police\, Wa. State Office of the Insurance Commissioner - SHIBA Program and the Kittitas County Community Network.
X-ALT-DESC;FMTTYPE=text/html:FREE Drug Take Back Day. Safely dispose of unused and out of date medications. Held in conjunction with Earth Day Events on April 19. Hosted by RSVP and Volunteer Center\, Kittitas County Sheriff Office\, CWU Police\, Wa. State Office of the Insurance Commissioner - SHIBA Program and the Kittitas County Community Network.
LOCATION:CWU Police Office parking lot. 1211 D. Street\, Ellensburg
UID:e.40.11130
SEQUENCE:3
DTSTAMP:20260419T144026Z
URL:http://business.kittitascountychamber.com/events/details/free-drug-take-back-day-04-19-2014-11130
END:VEVENT

END:VCALENDAR
