BEGIN:VCALENDAR
VERSION:2.0
PRODID:-//ChamberMaster//Event Calendar 2.0//EN
METHOD:PUBLISH
X-PUBLISHED-TTL:P3D
REFRESH-INTERVAL:P3D
CALSCALE:GREGORIAN
BEGIN:VEVENT
DTSTART:20130420T170000Z
DTEND:20130420T210000Z
X-MICROSOFT-CDO-ALLDAYEVENT:FALSE
SUMMARY:FREE Drug Take Back Day
DESCRIPTION:FREE Drug Take Back Day\n\n	April 20\, 2013\n\n	10:00  am until 2:00  pm\n\n	Safely dispose of your old prescription and over the counter medications.\n\n	Kittitas County Solid Waste\, 925 industrial Way\, Ellensburg\n\n	Sponsored by RSVP and Volunteer Center of Kittitas County\, Kittitas County Sheriff Office\,\n\n	 SHIBA Helpline and the Community Network\n\n	Held in conjunction with the Earth Day Celebration at Solid Waste.
X-ALT-DESC;FMTTYPE=text/html:<p>\n	<strong><span data-mce-style="font-family: 'Arial'\,'sans-serif'\;" style="font-family: 'Arial'\, 'sans-serif'">FREE Drug Take Back Day</span></strong></p>\n<p>\n	<strong><span data-mce-style="font-family: 'Arial'\,'sans-serif'\;" style="font-family: 'Arial'\, 'sans-serif'">April 20\, 2013</span></strong></p>\n<p>\n	<span data-mce-style="font-family: 'Arial'\,'sans-serif'\;" style="font-family: 'Arial'\, 'sans-serif'">10:00 &nbsp\;am until 2:00 &nbsp\;pm</span></p>\n<p>\n	<span data-mce-style="font-family: 'Arial'\,'sans-serif'\;" style="font-family: 'Arial'\, 'sans-serif'">Safely dispose of your old prescription and over the counter medications.</span></p>\n<p>\n	<span data-mce-style="font-family: 'Arial'\,'sans-serif'\;" style="font-family: 'Arial'\, 'sans-serif'">Kittitas County Solid Waste\, 925 industrial Way\, Ellensburg</span></p>\n<p>\n	<span data-mce-style="font-family: 'Arial'\,'sans-serif'\;" style="font-family: 'Arial'\, 'sans-serif'">Sponsored by RSVP and Volunteer Center of Kittitas County\, Kittitas County Sheriff Office\,</span></p>\n<p>\n	<span data-mce-style="font-family: 'Arial'\,'sans-serif'\;" style="font-family: 'Arial'\, 'sans-serif'">&nbsp\;SHIBA Helpline and the Community Network</span></p>\n<p>\n	<span data-mce-style="font-family: 'Arial'\,'sans-serif'\;" style="font-family: 'Arial'\, 'sans-serif'">Held in conjunction with the Earth Day Celebration at Solid Waste.</span></p>\n
LOCATION:Kittitas County Solid Waste\, 925 Industrial Way\, Ellensburg WA
UID:e.40.9246
SEQUENCE:3
DTSTAMP:20260420T100310Z
URL:http://business.kittitascountychamber.com/events/details/free-drug-take-back-day-04-20-2013-9246
END:VEVENT

END:VCALENDAR
