BEGIN:VCALENDAR
VERSION:2.0
PRODID:-//ChamberMaster//Event Calendar 2.0//EN
METHOD:PUBLISH
X-PUBLISHED-TTL:P3D
REFRESH-INTERVAL:P3D
CALSCALE:GREGORIAN
BEGIN:VEVENT
DTSTART:20130427T180000Z
DTEND:20130427T210000Z
X-MICROSOFT-CDO-ALLDAYEVENT:FALSE
SUMMARY:FREE Drug Take Back Day
DESCRIPTION:FREE Drug Take Back Day\n\n	April 27\, 2013\n\n	11:00 am until 2:00 pm\n\n	Kittitas County Sheriff Office\, Ellensburg and\n\n	Cle Elum Police Office\, Cle Elum\n\n	Safely dispose of your prescription and over the counter medications\n\n	Hosted by RSVP and Volunteer Center of Kittitas County\, Kittitas County Sheriff Office\,\n\n	Cle Elum Police Office\, SHIBA Helpline and the Community Network
X-ALT-DESC;FMTTYPE=text/html:<p>\n	<strong><span data-mce-style="font-family: 'Arial'\,'sans-serif'\;" style="font-family: 'Arial'\,'sans-serif'\;">FREE Drug Take Back Day</span></strong></p>\n<p>\n	<strong><span data-mce-style="font-family: 'Arial'\,'sans-serif'\;" style="font-family: 'Arial'\,'sans-serif'\;">April 27\, 2013</span></strong></p>\n<p>\n	<span data-mce-style="font-family: 'Arial'\,'sans-serif'\;" style="font-family: 'Arial'\,'sans-serif'\;">11:00 am until 2:00 pm</span></p>\n<p>\n	<span data-mce-style="font-family: 'Arial'\,'sans-serif'\;" style="font-family: 'Arial'\,'sans-serif'\;">Kittitas County Sheriff Office\, Ellensburg and</span></p>\n<p>\n	<span data-mce-style="font-family: 'Arial'\,'sans-serif'\;" style="font-family: 'Arial'\,'sans-serif'\;">Cle Elum Police Office\, Cle Elum</span></p>\n<p>\n	<span data-mce-style="font-family: 'Arial'\,'sans-serif'\;" style="font-family: 'Arial'\,'sans-serif'\;">Safely dispose of your prescription and over the counter medications</span></p>\n<p>\n	<span data-mce-style="font-family: 'Arial'\,'sans-serif'\;" style="font-family: 'Arial'\,'sans-serif'\;">Hosted by RSVP and Volunteer Center of Kittitas County\, Kittitas County Sheriff Office\,</span></p>\n<p>\n	<span data-mce-style="font-family: 'Arial'\,'sans-serif'\;" style="font-family: 'Arial'\,'sans-serif'\;">Cle Elum Police Office\, SHIBA Helpline and the Community Network</span></p>\n
LOCATION:County Sheriff Office\, Ellensburg & Cle Elum Police Offices
UID:e.40.9247
SEQUENCE:3
DTSTAMP:20260420T100456Z
URL:http://business.kittitascountychamber.com/events/details/free-drug-take-back-day-04-27-2013-9247
END:VEVENT

END:VCALENDAR
