BEGIN:VCALENDAR
VERSION:2.0
PRODID:-//ChamberMaster//Event Calendar 2.0//EN
METHOD:PUBLISH
X-PUBLISHED-TTL:P3D
REFRESH-INTERVAL:P3D
CALSCALE:GREGORIAN
BEGIN:VEVENT
DTSTART:20190706T040000Z
DTEND:20190720T060000Z
X-MICROSOFT-CDO-ALLDAYEVENT:FALSE
SUMMARY:Friday Summer Movies
DESCRIPTION:FREE FRIDAY SUMMER MOVIE Pack up the lawn chair\, get some munchies and come on down to watch some fun flicks with all your friends. We have a variety of movie options and some new venues. Movies begin at dusk (9:00 pm-ish). Ellensburg City Hall Ages: All Ages Dates: July 5th   The Jungle Book (G) July 12th   Chicken Run (G) July 19th   Wall-E (G) Location: City Hall (501 N. Anderson) Jeff Greear Field at Rotary Park Ages: All Ages Dates: July 26th   The Natural (PG) Location: Entering parking lot off of N. Lincoln and W. First Street Rotary Pavilion Ages: Mature Audiences Dates: August 2nd   The Big Lebowski (R) August 9th   Paul (R) August 16th   Top Gun (PG) Location: 400 Block of N. Pearl Street
X-ALT-DESC;FMTTYPE=text/html:FREE FRIDAY SUMMER MOVIE Pack up the lawn chair\, get some munchies and come on down to watch some fun flicks with all your friends. We have a variety of movie options and some new venues. Movies begin at dusk (9:00 pm-ish). Ellensburg City Hall Ages: All Ages Dates: July 5th &ndash\; The Jungle Book (G) July 12th &ndash\; Chicken Run (G) July 19th &ndash\; Wall-E (G) Location: City Hall (501 N. Anderson) Jeff Greear Field at Rotary Park Ages: All Ages Dates: July 26th &ndash\; The Natural (PG) Location: Entering parking lot off of N. Lincoln and W. First Street Rotary Pavilion Ages: Mature Audiences Dates: August 2nd &ndash\; The Big Lebowski (R) August 9th &ndash\; Paul (R) August 16th &ndash\; Top Gun (PG) Location: 400 Block of N. Pearl Street
LOCATION:City Hall (501 N. Anderson)
UID:e.40.25866
SEQUENCE:3
DTSTAMP:20260421T132124Z
URL:http://business.kittitascountychamber.com/events/details/friday-summer-movies-25866
END:VEVENT

END:VCALENDAR
