BEGIN:VCALENDAR
VERSION:2.0
PRODID:-//ChamberMaster//Event Calendar 2.0//EN
METHOD:PUBLISH
X-PUBLISHED-TTL:P3D
REFRESH-INTERVAL:P3D
CALSCALE:GREGORIAN
BEGIN:VEVENT
DTSTART:20130706T220000Z
DTEND:20130706T220000Z
X-MICROSOFT-CDO-ALLDAYEVENT:FALSE
SUMMARY:Frisbee Golf Tournament
DESCRIPTION:Come to the Frisbee Gold Tournament as part of the 2013 Cle Elum Pioneer Days!\n\nStarts at 3:00pm \n\nLive Disc Golf Course-Cle Elum\n\n\n\nFirst Tee: Hanson Ponds\n\nRegister at Cle Elum Bike & Hike or event day the Ponds\n\n$20.00 registration fee\n\n\n\nCash & Prizes!
X-ALT-DESC;FMTTYPE=text/html:Come to the Frisbee Gold Tournament as part of the 2013 Cle Elum Pioneer Days!<br />\nStarts at 3:00pm&nbsp\;<br />\nLive Disc Golf Course-Cle Elum<br />\n<br />\nFirst Tee: Hanson Ponds<br />\nRegister at Cle Elum Bike &amp\; Hike or event day the Ponds<br />\n$20.00 registration fee<br />\n<br />\nCash &amp\; Prizes!
LOCATION:Live Disc Golf Course- Cle Elum
UID:e.40.10366
SEQUENCE:3
DTSTAMP:20260420T050608Z
URL:http://business.kittitascountychamber.com/events/details/frisbee-golf-tournament-07-06-2013-10366
END:VEVENT

END:VCALENDAR
