BEGIN:VCALENDAR
VERSION:2.0
PRODID:-//ChamberMaster//Event Calendar 2.0//EN
METHOD:PUBLISH
X-PUBLISHED-TTL:P3D
REFRESH-INTERVAL:P3D
CALSCALE:GREGORIAN
BEGIN:VEVENT
DTSTART:20130405T160000Z
DTEND:20130405T190000Z
X-MICROSOFT-CDO-ALLDAYEVENT:FALSE
SUMMARY:Gallery One Open House
DESCRIPTION:Gallery One invites you to an Open House Friday April 5\, 2013 from 9:00 am - 12:00 Noon.  Coffee and donuts will be served.  Located in the heart of downtown Ellensburg\, you may have already visited the gallery during other events.  But did you know that Gallery One is available for weddings\, reunions and meetings?   With 5\,000 sq feet of art on three floors\, they have a unique set-up that adds to any type of event.  They have new exhibitions every month\, so you can be sure that the art on walls will give your guests something to talk about.\n\nCome and see for yourself during the Open House.  Or unwind with a glass of wine during their First Friday Art Walk the same day from 5:00 pm -7:00 pm.
X-ALT-DESC;FMTTYPE=text/html:Gallery One invites you to an Open House Friday April 5\, 2013 from 9:00 am - 12:00 Noon.&nbsp\; Coffee and donuts will be served.&nbsp\; Located in the heart of downtown Ellensburg\, you may have already visited the gallery during other events.&nbsp\; But did you know that Gallery One is available for weddings\, reunions and meetings?&nbsp\;&nbsp\; With 5\,000 sq feet of art on three floors\, they have a unique set-up that adds to any type of event.&nbsp\; They have new exhibitions every month\, so you can be sure that the art on walls will give your guests something to talk about.<BR><BR>Come and see for yourself during the Open House.&nbsp\; Or unwind with a glass of wine during their First Friday Art Walk the same day from 5:00 pm -7:00 pm.
LOCATION:Gallery One Visual Arts Center 408 N. Pearl St
UID:e.40.10149
SEQUENCE:3
DTSTAMP:20260420T100911Z
URL:http://business.kittitascountychamber.com/events/details/gallery-one-open-house-04-05-2013-10149
END:VEVENT

END:VCALENDAR
