BEGIN:VCALENDAR
VERSION:2.0
PRODID:-//ChamberMaster//Event Calendar 2.0//EN
METHOD:PUBLISH
X-PUBLISHED-TTL:P3D
REFRESH-INTERVAL:P3D
CALSCALE:GREGORIAN
BEGIN:VEVENT
DTSTART;VALUE=DATE:20130405
DTEND;VALUE=DATE:20130428
TRANSP:TRANSPARENT
X-MICROSOFT-CDO-ALLDAYEVENT:TRUE
SUMMARY:Gallery-One Presents "Tieton Made"
DESCRIPTION:Gallery One continues their tradition of offering an exhibit to one community  from outside the area each year.  This year the main gallery and mezzanine will be filled with artists from Tieton.  The works will encompass a broad range of mediums and concepts including a segment on the mezzanine highlighting works from Goat Head Press.  The purpose of this annual invitational show is to foster an exchange between communities and artists.
X-ALT-DESC;FMTTYPE=text/html:Gallery One continues their tradition of offering an exhibit to one community&nbsp\; from outside the area each year.&nbsp\; This year the main gallery and mezzanine will be filled with artists from Tieton.&nbsp\; The works will encompass a broad range of mediums and concepts including a segment on the mezzanine highlighting works from Goat Head Press.&nbsp\; The purpose of this annual invitational show is to foster an exchange between communities and artists.&nbsp\; 
LOCATION:Gallery-One Visual Arts Center 408 N. Pearl Street
UID:e.40.10153
SEQUENCE:3
DTSTAMP:20260420T100452Z
URL:http://business.kittitascountychamber.com/events/details/gallery-one-presents-tieton-made-04-05-2013-10153
END:VEVENT

END:VCALENDAR
