BEGIN:VCALENDAR
VERSION:2.0
PRODID:-//ChamberMaster//Event Calendar 2.0//EN
METHOD:PUBLISH
X-PUBLISHED-TTL:P3D
REFRESH-INTERVAL:P3D
CALSCALE:GREGORIAN
BEGIN:VEVENT
DTSTART:20130803T000000Z
DTEND:20130803T020000Z
X-MICROSOFT-CDO-ALLDAYEVENT:FALSE
SUMMARY:Gallery One's Kittitas County Juried Show
DESCRIPTION:Gallery One's juried show highlights the best of Kittitas County. Featuring works in many mediums\, this exhibit is a great time to see what local artists are up to. This year $2\,400 in awards will be distributed by the juror thanks to local award sponsors. \n\n\n\nExhibition Dates: August 2nd- August 31st\, 2013\n\nOpening Reception: August 2nd 5:00pm-7:00pm\, Awards: 6:00pm
X-ALT-DESC;FMTTYPE=text/html:Gallery One&#39\;s juried show highlights the best of Kittitas County. Featuring works in many mediums\, this exhibit is a great time to see what local artists are up to. This year $2\,400 in awards will be distributed by the juror thanks to local award sponsors.&nbsp\;<br />\n<br />\nExhibition Dates: August 2nd- August&nbsp\;31st\, 2013<br />\nOpening Reception: August 2nd&nbsp\;5:00pm-7:00pm\, Awards: 6:00pm
LOCATION:Gallery One Visual Arts Venter
UID:e.40.10416
SEQUENCE:3
DTSTAMP:20260420T033036Z
URL:http://business.kittitascountychamber.com/events/details/gallery-one-s-kittitas-county-juried-show-08-02-2013-10416
END:VEVENT

END:VCALENDAR
