BEGIN:VCALENDAR
VERSION:2.0
PRODID:-//ChamberMaster//Event Calendar 2.0//EN
METHOD:PUBLISH
X-PUBLISHED-TTL:P3D
REFRESH-INTERVAL:P3D
CALSCALE:GREGORIAN
BEGIN:VEVENT
DTSTART:20130420T003000Z
DTEND:20130420T040000Z
X-MICROSOFT-CDO-ALLDAYEVENT:FALSE
SUMMARY:Gallery - One Soup Line Benefit
DESCRIPTION:Gallery- One's Soup Line event offers an array of beautiful\, handmade ceramic bowls filled  with a variety of tasty homemade soups or salads made by Gallery One's Board of Directors and Volunteers.  The meal is accompanied by fresh breads and soft drinks and wine or beer for purchase.\n\n\n\nThis annual event offers a great time to sit down with your neighbors\, eat some tasty food\, and enjoy a laugh together while being entertained by local musicians.
X-ALT-DESC;FMTTYPE=text/html:Gallery- One&#39\;s Soup Line event offers an array of beautiful\, handmade ceramic bowls filled&nbsp\; with a variety of tasty homemade soups or salads made by Gallery One&#39\;s Board of Directors and Volunteers.&nbsp\; The meal is accompanied by fresh breads and soft drinks and wine or beer for purchase.<br />\n<br />\nThis annual event offers a great time to sit down with your neighbors\, eat some tasty food\, and enjoy a laugh together while being entertained by local musicians.
LOCATION:Gallery - One Visual Arts Center 408 N. Pearl Street
UID:e.40.10151
SEQUENCE:3
DTSTAMP:20260420T114007Z
URL:http://business.kittitascountychamber.com/events/details/gallery-one-soup-line-benefit-04-19-2013-10151
END:VEVENT

END:VCALENDAR
