BEGIN:VCALENDAR
VERSION:2.0
PRODID:-//ChamberMaster//Event Calendar 2.0//EN
METHOD:PUBLISH
X-PUBLISHED-TTL:P3D
REFRESH-INTERVAL:P3D
CALSCALE:GREGORIAN
BEGIN:VEVENT
DTSTART;VALUE=DATE:20130601
DTEND;VALUE=DATE:20130602
TRANSP:TRANSPARENT
X-MICROSOFT-CDO-ALLDAYEVENT:TRUE
SUMMARY:Galley - One Presents "Art About"
DESCRIPTION:Art About  is a fun-filled day of art and friends.  This is a self-guided tour of artist's homes and art studios in the Kittitas Valley.  Participants will receive a map guiding them to each home where they can meet the artists\, see where they live and work\, and mingle with other art enthusiasts.\n\n\n\n2013 Participating artists/venues\n\n\n\nGallery One Resident and Retail Artists\n\nDick & Jane's Spot - Jane Orleman\n\nDon O'Connor\n\nLouis Kollmeyer\n\nJulie Prather\n\nNatalie Dotzauer\n\nJustin Beckman\n\nBen Oblas\n\nHoward & Lorraine Barlow
X-ALT-DESC;FMTTYPE=text/html:Art About&nbsp\; is a fun-filled day of art and friends.&nbsp\; This is a self-guided tour of artist&#39\;s homes and art studios in the Kittitas Valley.&nbsp\; Participants will receive a map guiding them to each home where they can meet the artists\, see where they live and work\, and mingle with other art enthusiasts.<br />\n<br />\n2013 Participating artists/venues<br />\n<br />\nGallery One Resident and Retail Artists<br />\nDick &amp\; Jane&#39\;s Spot - Jane Orleman<br />\nDon O&#39\;Connor<br />\nLouis Kollmeyer<br />\nJulie Prather<br />\nNatalie Dotzauer<br />\nJustin Beckman<br />\nBen Oblas<br />\nHoward &amp\; Lorraine Barlow
LOCATION:Attendees will be given a location map.
UID:e.40.10154
SEQUENCE:3
DTSTAMP:20260420T064756Z
URL:http://business.kittitascountychamber.com/events/details/galley-one-presents-art-about-06-01-2013-10154
END:VEVENT

END:VCALENDAR
