BEGIN:VCALENDAR
VERSION:2.0
PRODID:-//ChamberMaster//Event Calendar 2.0//EN
METHOD:PUBLISH
X-PUBLISHED-TTL:P3D
REFRESH-INTERVAL:P3D
CALSCALE:GREGORIAN
BEGIN:VEVENT
DTSTART:20131003T000000Z
DTEND:20131003T020000Z
X-MICROSOFT-CDO-ALLDAYEVENT:FALSE
SUMMARY:Gerri Sayler Exhibit\, Opening Reception
DESCRIPTION:Moscow\, Idaho\, artist Gerri Sayler will use strands of hot glue as a sculptural medium to create an installation that finds expression in notions of freezing water and melting ice?intermingling. The work is inspired by Glacial Lake Missoula and the repeated geophysical catastrophes that have shaped Northern Idaho and Eastern Washington.
X-ALT-DESC;FMTTYPE=text/html:Moscow\, Idaho\, artist Gerri Sayler will use strands of hot glue as a sculptural medium to create an installation that finds expression in notions of freezing water and melting ice?intermingling. The work is inspired by Glacial Lake Missoula and the repeated geophysical catastrophes that have shaped Northern Idaho and Eastern Washington.
LOCATION:CWU Sarah Spurgeon Gallery Randall Hall on Dean Nicholson Blvd. Room 117
UID:e.40.10673
SEQUENCE:3
DTSTAMP:20260420T003236Z
URL:http://business.kittitascountychamber.com/events/details/gerri-sayler-exhibit-opening-reception-10-02-2013-10673
END:VEVENT

END:VCALENDAR
