BEGIN:VCALENDAR
VERSION:2.0
PRODID:-//ChamberMaster//Event Calendar 2.0//EN
METHOD:PUBLISH
X-PUBLISHED-TTL:P3D
REFRESH-INTERVAL:P3D
CALSCALE:GREGORIAN
BEGIN:VEVENT
DTSTART:20140201T163000Z
DTEND:20140201T200000Z
X-MICROSOFT-CDO-ALLDAYEVENT:FALSE
SUMMARY:Get Ready for Kindergaten
DESCRIPTION:Get Ready for Kindergarten...this is for parents and children (ages birth to 5 years old) in all Kittitas County Schools Districts.  Saturday February 1\, 2014 from 8:30 am - 12:00 Noon at the Kittitas Valley Event Center Umtanum Hall\n\n\n\nThere will be "FREE Pancakes with the Principals" (sponsored by Rodeo City Kiwanis).\n\nYou will get to board a bus\, meet the principals\, face painting will also be available\n\nYou will learn how to register for kindergarten\, Develop math\, language\, motor & social skills.  Get help for children with special needs and much more.  LEARN ABOUT. Fire safety\,     Immunizations\, Developmental screening and selecting a day care or preschool
X-ALT-DESC;FMTTYPE=text/html:Get Ready for Kindergarten...this is for parents and children (ages birth to 5 years old) in all Kittitas County Schools Districts.&nbsp\; Saturday February 1\, 2014 from 8:30 am - 12:00 Noon at the Kittitas Valley Event Center Umtanum Hall<br />\n<br />\nThere will be &quot\;FREE Pancakes with the Principals&quot\;&nbsp\;(sponsored by Rodeo City Kiwanis).<br />\nYou will get to board a bus\, meet the principals\, face painting will also be available<br />\nYou will learn how to register for kindergarten\, Develop math\, language\, motor &amp\; social skills.&nbsp\; Get help for children with special needs and much more.&nbsp\; LEARN ABOUT. Fire&nbsp\;safety\,&nbsp\;&nbsp\;&nbsp\;&nbsp\;&nbsp\;Immunizations\, Developmental screening and selecting a day care or preschool&nbsp\;&nbsp\;&nbsp\;&nbsp\;&nbsp\;&nbsp\;&nbsp\;&nbsp\;&nbsp\;&nbsp\;&nbsp\;&nbsp\;&nbsp\;&nbsp\;&nbsp\;&nbsp\;&nbsp\;&nbsp\;&nbsp\;&nbsp\;&nbsp\;&nbsp\;&nbsp\;&nbsp\;&nbsp\;&nbsp\;&nbsp\;&nbsp\;&nbsp\;&nbsp\;&nbsp\;&nbsp\;&nbsp\;&nbsp\;&nbsp\;&nbsp\;&nbsp\;&nbsp\;&nbsp\;&nbsp\;&nbsp\;&nbsp\;&nbsp\;&nbsp\;&nbsp\;&nbsp\;&nbsp\;&nbsp\;&nbsp\;&nbsp\;&nbsp\;&nbsp\;&nbsp\;&nbsp\;&nbsp\;&nbsp\;&nbsp\;&nbsp\;&nbsp\;&nbsp\;&nbsp\;&nbsp\;&nbsp\;&nbsp\;&nbsp\;&nbsp\;&nbsp\;&nbsp\;&nbsp\;&nbsp\;&nbsp\;&nbsp\;&nbsp\;&nbsp\;&nbsp\;&nbsp\;&nbsp\;&nbsp\;&nbsp\;&nbsp\;&nbsp\;&nbsp\;&nbsp\;&nbsp\;&nbsp\;&nbsp\;&nbsp\;&nbsp\;&nbsp\;&nbsp\;&nbsp\;&nbsp\;&nbsp\;&nbsp\;&nbsp\;&nbsp\;&nbsp\;&nbsp\;&nbsp\;&nbsp\;&nbsp\;&nbsp\;&nbsp\;&nbsp\;&nbsp\;&nbsp\;&nbsp\;&nbsp\;&nbsp\;&nbsp\;&nbsp\;&nbsp\;&nbsp\;&nbsp\;&nbsp\;&nbsp\;&nbsp\;&nbsp\;&nbsp\;&nbsp\;<br type="_moz" />\n
LOCATION:Kittitas Valley Event Center (Kittitas County Fairgrounds) Umtanum Hall
UID:e.40.10955
SEQUENCE:3
DTSTAMP:20260419T174823Z
URL:http://business.kittitascountychamber.com/events/details/get-ready-for-kindergaten-02-01-2014-10955
END:VEVENT

END:VCALENDAR
