BEGIN:VCALENDAR
VERSION:2.0
PRODID:-//ChamberMaster//Event Calendar 2.0//EN
METHOD:PUBLISH
X-PUBLISHED-TTL:P3D
REFRESH-INTERVAL:P3D
CALSCALE:GREGORIAN
BEGIN:VEVENT
DTSTART:20140411T000000Z
DTEND:20140411T040000Z
X-MICROSOFT-CDO-ALLDAYEVENT:FALSE
SUMMARY:Girls Night Out
DESCRIPTION:Girls Night Out is sure to bring much needed pampering and shopping specials to the ladies of Ellensburg. The evening favorites typically include complimentary foot and hand scrubs\, massages\, henna tattoos\, and enticing treats. In case you need another reason to shop\, you will be entered to win one of two gift baskets for every $10 spent. Gift baskets are filled with merchandise and gift certificates from each of the participating stores.
X-ALT-DESC;FMTTYPE=text/html:Girls Night Out is sure to bring much needed pampering and shopping specials to the ladies of Ellensburg. The evening favorites typically include complimentary foot and hand scrubs\, massages\, henna tattoos\, and enticing treats. In case you need another reason to shop\, you will be entered to win one of two gift baskets for every $10 spent. Gift baskets are filled with merchandise and gift certificates from each of the participating stores.
LOCATION:Downtown Ellensburg
UID:e.40.11214
SEQUENCE:3
DTSTAMP:20260419T144138Z
URL:http://business.kittitascountychamber.com/events/details/girls-night-out-04-10-2014-11214
END:VEVENT

END:VCALENDAR
