BEGIN:VCALENDAR
VERSION:2.0
PRODID:-//ChamberMaster//Event Calendar 2.0//EN
METHOD:PUBLISH
X-PUBLISHED-TTL:P3D
REFRESH-INTERVAL:P3D
CALSCALE:GREGORIAN
BEGIN:VEVENT
DTSTART:20130412T000000Z
DTEND:20130412T040000Z
X-MICROSOFT-CDO-ALLDAYEVENT:FALSE
SUMMARY:Girls Night Out
DESCRIPTION:An established favorite\, Girls Night Out is sure to bring much needed pampering and shopping specials to the ladies of Ellensburg. The evening favorites typically include complimentary foot and hand scrubs\, massages\, henna tattoos\, and enticing treats. In case you need another reason to shop\, you will be entered to win one of two gift baskets for every $10 spent. Gift baskets are filled with merchandise and gift certificates from each of the participating stores. A map of participating venues and their specials will be published the week of the event. Join us downtown on Thursday\, April 11 from 5-9p.m.
X-ALT-DESC;FMTTYPE=text/html:An established favorite\, Girls Night Out is sure to bring much needed pampering and shopping specials to the ladies of Ellensburg. The evening favorites typically include complimentary foot and hand scrubs\, massages\, henna tattoos\, and enticing treats. In case you need another reason to shop\, you will be entered to win one of two gift baskets for every $10 spent. Gift baskets are filled with merchandise and gift certificates from each of the participating stores. A map of participating venues and their specials will be published the week of the event. Join us downtown on Thursday\, April 11 from 5-9p.m.
LOCATION:Downtown Ellensburg
UID:e.40.9241
SEQUENCE:3
DTSTAMP:20260420T101931Z
URL:http://business.kittitascountychamber.com/events/details/girls-night-out-04-11-2013-9241
END:VEVENT

END:VCALENDAR
