BEGIN:VCALENDAR
VERSION:2.0
PRODID:-//ChamberMaster//Event Calendar 2.0//EN
METHOD:PUBLISH
X-PUBLISHED-TTL:P3D
REFRESH-INTERVAL:P3D
CALSCALE:GREGORIAN
BEGIN:VEVENT
DTSTART:20131121T230000Z
DTEND:20131122T003000Z
X-MICROSOFT-CDO-ALLDAYEVENT:FALSE
SUMMARY:Global Entrepreneurship Week Program
DESCRIPTION:Join us for Global Entrepreneurship Week November 18-24 \, the world's largest celebration of the innovators and job creators who launch start ups that bring ideas to life\, drive economic growth and expand human welfare.\n		\n	\n\n\n	 \n \n\n\n	\n		\n			\n				Teamwork for Innovation\, Entrepreneurship and Economic Development: The Case of the of Pacific Northwest National Laboratory and prospects for Kittitas County\, with guest speaker David Greenslade\, Technology Commercialization Manager of PNNL.\n\n				 \n\n				Date : November 21\, 2013\n\n				Time : 3:00-4:30 pm\n\n				Location : Day's inn Conference Room  \n\n				901 Berry Rd\, Ellensburg\n\n				Sponsored by: Kittitas County Chamber of Commerce & the institute for Innovation and Entrepreneurship at CWU.\n\n				 \n\n				Presentation agenda available at the Chamber \, please call Membership Services 509-925-2002\n\n				Reception to follow at Business After Hours 5-7 pm\, at Dry Creek Retirement & Assisted Living 818 E. Mountain View Ave
X-ALT-DESC;FMTTYPE=text/html:<table align="center" border="0" cellpadding="0" cellspacing="0" style="width:100.0%\;" width="100%">\n	<tbody>\n		<tr>\n			<td style="padding:2.5pt 9.0pt 0in 9.0pt\;vertical-align:top\;">\n				<strong><span style="color:#76b5be\;"><span style="font-family:arial\,sans-serif\;"><span style="font-size:9.0pt\;">Join us for Global Entrepreneurship Week November 18-24 \, the world&#39\;s largest celebration of the innovators and job creators who launch start ups that bring ideas to life\, drive economic growth and expand human welfare.</span></span></span></strong></td>\n		</tr>\n	</tbody>\n</table>\n<div style="clear:both\;">\n	&nbsp\;</div>\n&nbsp\;<br />\n<table align="center" border="0" cellpadding="0" cellspacing="0" id="content_LETTER.BLOCK26" style="width:100.0%\;" width="100%">\n	<tbody>\n		<tr>\n			<td style="padding:3.5pt 9.0pt 3.5pt 9.0pt\;vertical-align:top\;">\n				<span color="#454545" face="Arial\, Helvetica\, sans-serif" size="2"><span color="#454545" face="Arial\, Helvetica\, sans-serif" size="2">Teamwork for Innovation\, Entrepreneurship and Economic Development: The Case of the of </span><strong><em><span style="font-family:arial\,sans-serif\;">Pacific Northwest National&nbsp\;</span></em></strong></span><strong><em><span color="#454545" face="Arial\, Helvetica\, sans-serif" size="2">Laboratory</span></em></strong>&nbsp\;and prospects for Kittitas County\, with guest speaker David Greenslade\, Technology Commercialization Manager of <strong><span style="font-family:arial\,sans-serif\;">PNNL.</span></strong><br />\n				&nbsp\;<br />\n				<span color="#454545" face="Arial\, Helvetica\, sans-serif" size="2"><strong><span style="color:#454545\;"><span style="font-family:arial\,sans-serif\;"><span style="font-size:8.0pt\;">Date :</span></span></span></strong></span><span style="color:#454545\;"><span style="font-family:arial\,sans-serif\;"><span style="font-size:8.0pt\;"> November 21\, 2013</span></span></span><br />\n				<span color="#454545" face="Arial\, Helvetica\, sans-serif" size="2"><strong><span style="color:#454545\;"><span style="font-family:arial\,sans-serif\;"><span style="font-size:8.0pt\;">Time :</span></span></span></strong></span><span style="color:#454545\;"><span style="font-family:arial\,sans-serif\;"><span style="font-size:8.0pt\;"> 3:00-4:30 pm</span></span></span><br />\n				<span color="#454545" face="Arial\, Helvetica\, sans-serif" size="2"><strong><span style="color:#454545\;"><span style="font-family:arial\,sans-serif\;"><span style="font-size:8.0pt\;"><span color="#454545" face="Arial\, Helvetica\, sans-serif" size="2">Location</span>&nbsp\;:</span></span></span></strong></span><span style="color:#454545\;"><span style="font-family:arial\,sans-serif\;"><span style="font-size:8.0pt\;"> Day&#39\;s inn Conference Room &nbsp\;</span></span></span><br />\n				<span color="#454545" face="Arial\, Helvetica\, sans-serif" size="2"><span style="color:#454545\;"><span style="font-family:arial\,sans-serif\;"><span style="font-size:8.0pt\;">901 Berry Rd\, Ellensburg</span></span></span></span><br />\n				<span color="#454545" face="Arial\, Helvetica\, sans-serif" size="2"><strong><span style="color:#454545\;"><span style="font-family:arial\,sans-serif\;"><span style="font-size:8.0pt\;">Sponsored by</span></span></span></strong></span><span style="color:#454545\;"><span style="font-family:arial\,sans-serif\;"><span style="font-size:8.0pt\;">: Kittitas County Chamber of Commerce &amp\; the institute for Innovation and Entrepreneurship at CWU.</span></span></span><br />\n				&nbsp\;<br />\n				<span color="#454545" face="Arial\, Helvetica\, sans-serif" size="2"><strong><span style="font-family:arial\,sans-serif\;"><span style="font-size:8pt\;">Presentation agenda available</span></span></strong></span><strong><span style="color:#454545\;"><span style="font-family:arial\,sans-serif\;"><span style="font-size:8.0pt\;">&nbsp\;at&nbsp\;the Chamber \, please call Membership Services 509-925-2002</span></span></span></strong><br />\n				<span color="#454545" face="Arial\, Helvetica\, sans-serif" size="2"><em><span color="#454545" face="Arial\, Helvetica\, sans-serif" size="2"><strong><span style="color:#454545\;"><span style="font-family:arial\,sans-serif\;"><span style="font-size:8.0pt\;">Reception</span></span></span></strong></span><strong>&nbsp\;to follow at Business After Hours 5-7 pm\, at Dry Creek Retirement &amp\; Assisted Living 818 E. Mountain View Ave &nbsp\;&nbsp\;</strong></em></span></td>\n		</tr>\n	</tbody>\n</table>\n<div style="clear:both\;">\n	&nbsp\;</div>\n
LOCATION:
UID:e.40.10838
SEQUENCE:3
DTSTAMP:20260419T224707Z
URL:http://business.kittitascountychamber.com/events/details/global-entrepreneurship-week-program-11-21-2013-10838
END:VEVENT

END:VCALENDAR
